BEGIN:VCALENDAR
PRODID:NingEventWidget-v1
VERSION:2.0
METHOD:PUBLISH
BEGIN:VTIMEZONE
TZID:America/Los_Angeles
X-LIC-LOCATION:America/Los_Angeles
BEGIN:DAYLIGHT
TZOFFSETFROM:-0800
TZOFFSETTO:-0700
TZNAME:PDT
DTSTART:19700308T020000
RRULE:FREQ=YEARLY;BYMONTH=3;BYDAY=2SU
END:DAYLIGHT
BEGIN:STANDARD
TZOFFSETFROM:-0700
TZOFFSETTO:-0800
TZNAME:PST
DTSTART:19701101T020000
RRULE:FREQ=YEARLY;BYMONTH=11;BYDAY=1SU
END:STANDARD
END:VTIMEZONE
BEGIN:VEVENT
UID:1464587:Event:31447
DTSTAMP:20260420T223351Z
SUMMARY:Education Not Incarceration: Concert to Benefit SSDP! Special 
 Guest Sellasie and C U Next Weekend
DESCRIPTION:Join us for a night of music to celebrate Students for Sen
 sible Drug Policy's first West Coast Conference. Featuring: C U Next W
 eekend (formerly Shampu) and Sellassie\n\nFor more information visit h
 ttps://trueskool.com/events/education-not-incarceration
DTSTART;TZID=America/Los_Angeles:20090426T200000
DTEND;TZID=America/Los_Angeles:20090427T000000
CATEGORIES:benefit, concert, -, general, admisssion, "$12.00", student
 s, "$10.00"
LOCATION:Blakes on Telegraph
WEBSITE:
URL:
CONTACT:(510) 848-0886
ORGANIZER;CN=CUNextWeekend:https://trueskool.com/profile/UrbanSky
ATTACH;FMTTYPE="image/jpeg":http://storage.ning.com/topology/rest/1.0/
 file/get/2187310744?profile=original
ATTENDEE;ROLE=REQ-PARTICIPANT;PARTSTAT=ACCEPTED;RSVP=TRUE;CN=CUNextWee
 kend:https://trueskool.com/profile/UrbanSky
END:VEVENT
END:VCALENDAR
