BEGIN:VCALENDAR
PRODID:NingEventWidget-v1
VERSION:2.0
METHOD:PUBLISH
BEGIN:VTIMEZONE
TZID:America/Los_Angeles
X-LIC-LOCATION:America/Los_Angeles
BEGIN:DAYLIGHT
TZOFFSETFROM:-0800
TZOFFSETTO:-0700
TZNAME:PDT
DTSTART:19700308T020000
RRULE:FREQ=YEARLY;BYMONTH=3;BYDAY=2SU
END:DAYLIGHT
BEGIN:STANDARD
TZOFFSETFROM:-0700
TZOFFSETTO:-0800
TZNAME:PST
DTSTART:19701101T020000
RRULE:FREQ=YEARLY;BYMONTH=11;BYDAY=1SU
END:STANDARD
END:VTIMEZONE
BEGIN:VEVENT
UID:1464587:Event:631139
DTSTAMP:20260421T211207Z
SUMMARY:EDEN Pride FT. V. Bozeman
DESCRIPTION:EDEN Pride: Go Wild. Be Wild. Run Wild. WE ARE THE PARTY.\
 n\n*THIS* night is going to be LEGENDARY. V.Bozeman, signed to Timbala
 nd’s record label Mosley Music Group via Epic Records is performing 
 for the FIRST time in SF and EDEN has her! Her solo debut album “Mus
 ic is My Boyfriend” drops this summer, her collaborative album with 
 Timbaland. YOU will get to see her and hear FIRST at EDEN’s Signatur
 e Party.✷ Headliner: V.Bozeman from EMPIRE!!!✷ DJs Val G, Lady Rya
 n, Motive, Angie Vee✷ $1000 Balloon Drop at midnight✷ Free Champag
 ne Toast✷ EDEN Go-Gos✷ Photobooth✷ Bottle Service Available\n\nF
 or more information visit https://trueskool.com/events/eden-pride-ft-v
 -bozeman
DTSTART;TZID=America/Los_Angeles:20150627T210000
DTEND;TZID=America/Los_Angeles:20150628T020000
CATEGORIES:san, francisco, bay, area, mezzanine, sf, pride
LOCATION:San Francisco
WEBSITE:http://mezzaninesf.com/events/eden-pride-ft-v-bozeman/
URL:http://mezzaninesf.com/events/eden-pride-ft-v-bozeman/
CONTACT:415.625.8880
ORGANIZER:EDEN in the Bay presents
ATTACH;FMTTYPE="image/jpeg":http://storage.ning.com/topology/rest/1.0/
 file/get/2247976609?profile=original
ATTENDEE;ROLE=REQ-PARTICIPANT;PARTSTAT=ACCEPTED;RSVP=TRUE;CN=Mezzanine
 SF:https://trueskool.com/profile/MezzanineSF
END:VEVENT
END:VCALENDAR
