BEGIN:VCALENDAR
PRODID:NingEventWidget-v1
VERSION:2.0
METHOD:PUBLISH
BEGIN:VTIMEZONE
TZID:America/Los_Angeles
X-LIC-LOCATION:America/Los_Angeles
BEGIN:DAYLIGHT
TZOFFSETFROM:-0800
TZOFFSETTO:-0700
TZNAME:PDT
DTSTART:19700308T020000
RRULE:FREQ=YEARLY;BYMONTH=3;BYDAY=2SU
END:DAYLIGHT
BEGIN:STANDARD
TZOFFSETFROM:-0700
TZOFFSETTO:-0800
TZNAME:PST
DTSTART:19701101T020000
RRULE:FREQ=YEARLY;BYMONTH=11;BYDAY=1SU
END:STANDARD
END:VTIMEZONE
BEGIN:VEVENT
UID:1464587:Event:39213
DTSTAMP:20260421T093254Z
SUMMARY:Eddie Griffin
DESCRIPTION:Bud Light Concert Series\nEddie Griffin\n\nSaturday Novemb
 er 14, 2009\n\nThe Warfield\n982 Market Street\nSan Francisco, CA 9410
 2\n\n* Show time: 9:00pm\n* Door time: 8:00pm\n* Age: All Ages+\n\nTic
 kets\n\n* Tickets Available Now\n* $37.50-$45.00*\n\n\n\nFor more info
 rmation visit https://trueskool.com/events/eddie-griffin
DTSTART;TZID=America/Los_Angeles:20091114T200000
DTEND;TZID=America/Los_Angeles:20091114T230000
CATEGORIES:comedy
LOCATION:The Warfield
WEBSITE:http://www.goldenvoice.com/shows/details/?id=24258
URL:http://www.goldenvoice.com/shows/details/?id=24258
CONTACT:
ORGANIZER:Golden Voice
ATTACH;FMTTYPE="image/jpeg":http://storage.ning.com/topology/rest/1.0/
 file/get/2247865632?profile=original
ATTENDEE;ROLE=REQ-PARTICIPANT;PARTSTAT=ACCEPTED;RSVP=TRUE;CN="Editor's
  Pick":https://trueskool.com/profile/RentheVinylArchaeologist
END:VEVENT
END:VCALENDAR
