BEGIN:VCALENDAR
PRODID:NingEventWidget-v1
VERSION:2.0
METHOD:PUBLISH
BEGIN:VTIMEZONE
TZID:America/Los_Angeles
X-LIC-LOCATION:America/Los_Angeles
BEGIN:DAYLIGHT
TZOFFSETFROM:-0800
TZOFFSETTO:-0700
TZNAME:PDT
DTSTART:19700308T020000
RRULE:FREQ=YEARLY;BYMONTH=3;BYDAY=2SU
END:DAYLIGHT
BEGIN:STANDARD
TZOFFSETFROM:-0700
TZOFFSETTO:-0800
TZNAME:PST
DTSTART:19701101T020000
RRULE:FREQ=YEARLY;BYMONTH=11;BYDAY=1SU
END:STANDARD
END:VTIMEZONE
BEGIN:VEVENT
UID:1464587:Event:63380
DTSTAMP:20260421T143826Z
SUMMARY:Earthdance 2010 - Northern California
DESCRIPTION:CLICK HERE TO WIN A PAIR OF TICKETS:\nhttp://www.trueskool
 .com/group/wintickets\n\n\nEarthdance 2010 - Northern California\nEart
 hdance, the Global Dance Festival for Peace has grown to become the wo
 rld's largest simultaneous music and dance event. Founded in 1997, wit
 h 22 cities and 18 countries participating, Earthdance events have occ
 urred in over 350 cities in over 50 countries. , with locations rangin
 g from the club-lands of New York to the rainforests of Brazil. Every 
 year, in alignment with the International Day of Peace, over 200,000 p
 eople unite in dance with hundreds of thousands more joining online in
  support of global peace and humanitarian aims.\n\nMichael Franti and 
 Spearhead\nMatisyahu\nZap Mama\nKinky\nDumpstaphunk\nRootz Underground
 \nThe West Coast Hip Hop Massive\nFeaturing: Lyrics Born, Gift Of Gab,
  Lateef the Truthspeaker\nTrombone Shorty and Orleans Avenue\nBeats An
 tique\nYard Dogs Road Show\nDelhi 2 Dublin\nBLVD\nWisdom\nIndubious\nS
 ila and the Afro Funk Experience\nLo Cura\nBlane Lyon\nSuzanne Sterlin
 g\nCornflower\nVibrant EYEris\nTodd Boston\n\n@ Black Oak Ranch, Hwy 1
 01\nLaytonville, CA 95454\nAdvance presale tickets are $175.00 (3 day 
 pass includes camping), available online or at our regular outlets.\nT
 ickets at the gate are: $200\nSunday only tickets are: $80 (available 
 online)\nPlease note: Given that this is our last year in Laytonville,
  tickets are selling fast, so we recommend buying your tickets in adva
 nce.\nBuy Tickets\nInfo: http://earthdancelive.com/\n\n\nFor more info
 rmation visit https://trueskool.com/events/earthdance-2010-northern
DTSTART;TZID=America/Los_Angeles:20100917T000000
DTEND;TZID=America/Los_Angeles:20100919T235900
CATEGORIES:hip, hop, soul, reggae, electronic, afro, beat
LOCATION:Black Oak Ranch, Laytonville, CA
WEBSITE:http://earthdancelive.com/tickets.html
URL:http://earthdancelive.com/tickets.html
CONTACT:
ORGANIZER:Earthdance
ATTACH;FMTTYPE="image/jpeg":http://storage.ning.com/topology/rest/1.0/
 file/get/2247882158?profile=original
ATTENDEE;ROLE=REQ-PARTICIPANT;PARTSTAT=ACCEPTED;RSVP=TRUE;CN="Ren the 
 Vinyl Archaeologist":https://trueskool.com/profile/xh51jvilojur
ATTENDEE;ROLE=REQ-PARTICIPANT;PARTSTAT=TENTATIVE;RSVP=TRUE;CN="Keyatta
  Shade":https://trueskool.com/profile/KeyattaShade
ATTENDEE;ROLE=REQ-PARTICIPANT;PARTSTAT=TENTATIVE;RSVP=TRUE;CN="takumi 
 suzuki":https://trueskool.com/profile/takumisuzuki
END:VEVENT
END:VCALENDAR
