BEGIN:VCALENDAR
PRODID:NingEventWidget-v1
VERSION:2.0
METHOD:PUBLISH
BEGIN:VTIMEZONE
TZID:America/Los_Angeles
X-LIC-LOCATION:America/Los_Angeles
BEGIN:DAYLIGHT
TZOFFSETFROM:-0800
TZOFFSETTO:-0700
TZNAME:PDT
DTSTART:19700308T020000
RRULE:FREQ=YEARLY;BYMONTH=3;BYDAY=2SU
END:DAYLIGHT
BEGIN:STANDARD
TZOFFSETFROM:-0700
TZOFFSETTO:-0800
TZNAME:PST
DTSTART:19701101T020000
RRULE:FREQ=YEARLY;BYMONTH=11;BYDAY=1SU
END:STANDARD
END:VTIMEZONE
BEGIN:VEVENT
UID:1464587:Event:829140
DTSTAMP:20260421T093816Z
SUMMARY:Earth, Wind and Fire & Chicago at Concord Pavilion
DESCRIPTION:Earth, Wind and Fire & Chicago at Concord Pavilion\r\nSun,
  Sep 1, 2024 @ 7:30PM\r\nConcord Pavilion 2000 Kirker Pass Rd, Concord
 , CA 94521, USA\n\nFor more information visit https://trueskool.com/ev
 ents/earth-wind-and-fire-chicago-at-concord-pavilion
DTSTART;TZID=America/Los_Angeles:20240901T193000
DTEND;TZID=America/Los_Angeles:20240901T233000
CATEGORIES:"bay area", oakland, "san francisco", "san jose", berkeley
LOCATION:Concord Pavilion, Concord
WEBSITE:https://www.ticketsqueeze.com/tickets/6079792/buy-tickets
URL:https://www.ticketsqueeze.com/tickets/6079792/buy-tickets
CONTACT:
ORGANIZER;CN="Editor's Pick":https://trueskool.com/profile/RentheVinyl
 Archaeologist
ATTACH;FMTTYPE="image/jpeg":https://storage.ning.com/topology/rest/1.0
 /file/get/12438105856?profile=original
ATTENDEE;ROLE=REQ-PARTICIPANT;PARTSTAT=ACCEPTED;RSVP=TRUE;CN="Editor's
  Pick":https://trueskool.com/profile/RentheVinylArchaeologist
END:VEVENT
END:VCALENDAR
