BEGIN:VCALENDAR
PRODID:NingEventWidget-v1
VERSION:2.0
METHOD:PUBLISH
BEGIN:VTIMEZONE
TZID:America/Los_Angeles
X-LIC-LOCATION:America/Los_Angeles
BEGIN:DAYLIGHT
TZOFFSETFROM:-0800
TZOFFSETTO:-0700
TZNAME:PDT
DTSTART:19700308T020000
RRULE:FREQ=YEARLY;BYMONTH=3;BYDAY=2SU
END:DAYLIGHT
BEGIN:STANDARD
TZOFFSETFROM:-0700
TZOFFSETTO:-0800
TZNAME:PST
DTSTART:19701101T020000
RRULE:FREQ=YEARLY;BYMONTH=11;BYDAY=1SU
END:STANDARD
END:VTIMEZONE
BEGIN:VEVENT
UID:1464587:Event:834430
DTSTAMP:20260421T125306Z
SUMMARY:Earl Sweatshirt
DESCRIPTION:Earl Sweatshirt\r\nTuesday, Feb 25, 2025 Doors: 7:00PM | S
 how: 8:00PM\r\nWednesday, Feb 26, 2025 Doors 7 pm | Show 8 pm\r\nGreat
  American Music Hall 859 O'Farrell St San Francisco, CA 94109\n\nFor m
 ore information visit https://trueskool.com/events/earl-sweatshirt-1
DTSTART;TZID=America/Los_Angeles:20250225T200000
DTEND;TZID=America/Los_Angeles:20250226T230000
CATEGORIES:"bay area", oakland, "san francisco", "san jose", berkeley
LOCATION:Great American Music Hall, SF
WEBSITE:https://gamh.com/?seetickets-search=earl
URL:https://gamh.com/?seetickets-search=earl
CONTACT:
ORGANIZER;CN="Editor's Pick":https://trueskool.com/profile/RentheVinyl
 Archaeologist
ATTACH;FMTTYPE="image/jpeg":https://storage.ning.com/topology/rest/1.0
 /file/get/13432271668?profile=original
ATTENDEE;ROLE=REQ-PARTICIPANT;PARTSTAT=ACCEPTED;RSVP=TRUE;CN="Editor's
  Pick":https://trueskool.com/profile/RentheVinylArchaeologist
END:VEVENT
END:VCALENDAR
