BEGIN:VCALENDAR
PRODID:NingEventWidget-v1
VERSION:2.0
METHOD:PUBLISH
BEGIN:VTIMEZONE
TZID:America/Los_Angeles
X-LIC-LOCATION:America/Los_Angeles
BEGIN:DAYLIGHT
TZOFFSETFROM:-0800
TZOFFSETTO:-0700
TZNAME:PDT
DTSTART:19700308T020000
RRULE:FREQ=YEARLY;BYMONTH=3;BYDAY=2SU
END:DAYLIGHT
BEGIN:STANDARD
TZOFFSETFROM:-0700
TZOFFSETTO:-0800
TZNAME:PST
DTSTART:19701101T020000
RRULE:FREQ=YEARLY;BYMONTH=11;BYDAY=1SU
END:STANDARD
END:VTIMEZONE
BEGIN:VEVENT
UID:1464587:Event:40791
DTSTAMP:20260421T034246Z
SUMMARY:Dynamic @ Coda Lounge
DESCRIPTION:Come party with the hottest Bay Area live band. Dynamic is
  a blend of styles with powerful vocals by Kimiko Joy and Darian Gray.
  Voted \"Best of the Bay\" by Eric Arnold. Winners of \"Bay Rising\" N
 ew album in the works!! Current albums can be purchased on i tunes, cd
 baby.com, and the myspace page....\n\nwww.myspace.com/dynamicliveband\
 nOfficial Site: http://www.dynamicliveband.com\n\nFor more information
  visit https://trueskool.com/events/dynamic-coda-lounge
DTSTART;TZID=America/Los_Angeles:20091023T213000
DTEND;TZID=America/Los_Angeles:20091024T003000
CATEGORIES:urban, pop
LOCATION:Coda Lounge
WEBSITE:
URL:
CONTACT:4155512632
ORGANIZER;CN="Darian Gray":https://trueskool.com/profile/DarianGray
ATTACH;FMTTYPE="image/jpeg":http://storage.ning.com/topology/rest/1.0/
 file/get/2247866424?profile=original
ATTENDEE;ROLE=REQ-PARTICIPANT;PARTSTAT=ACCEPTED;RSVP=TRUE;CN="Darian G
 ray":https://trueskool.com/profile/DarianGray
END:VEVENT
END:VCALENDAR
