BEGIN:VCALENDAR
PRODID:NingEventWidget-v1
VERSION:2.0
METHOD:PUBLISH
BEGIN:VTIMEZONE
TZID:America/Los_Angeles
X-LIC-LOCATION:America/Los_Angeles
BEGIN:DAYLIGHT
TZOFFSETFROM:-0800
TZOFFSETTO:-0700
TZNAME:PDT
DTSTART:19700308T020000
RRULE:FREQ=YEARLY;BYMONTH=3;BYDAY=2SU
END:DAYLIGHT
BEGIN:STANDARD
TZOFFSETFROM:-0700
TZOFFSETTO:-0800
TZNAME:PST
DTSTART:19701101T020000
RRULE:FREQ=YEARLY;BYMONTH=11;BYDAY=1SU
END:STANDARD
END:VTIMEZONE
BEGIN:VEVENT
UID:1464587:Event:42276
DTSTAMP:20260420T200218Z
SUMMARY:Dujeous (NYC) w/ Felonious & S.o.u.l. Purpose
DESCRIPTION:Dujeous (NYC) w/ Felonious + S.o.u.l Purpose\n\nLive Monda
 y Nov 9th @ CODA in SF\n\nDujeous has performed in North America, Euro
 pe, and Asia, with the likes of Kanye, Busta, 311, Funkadelic, John Le
 gend, Mobb Deep, and countless others. Word of their instrumental and 
 production prowess spread has led to some serious collaborations. They
 've played for Mark Ronson, Lily Allen, Al Green, and Lauren Hill, and
  produced for Dip Set, Saigon, and Keith Murray. There's a reason Mark
  Ronson called Dujeous \"New York’s only hip-hop band worth talking 
 about.\"\nhttp://www.dujeous.net/\n\nFELONIOUS: ONELOVEHIPHOP is dedic
 ated to playing Hip Hop with a live band. The live instrumentation all
 ows for an intricate musical texture featuring the pounding beats of S
 oulati (Tommy Shepherd), the reggae, latin, funk, and jazz bass lines 
 of Illin Ills (Dylan Mills), KP's (Keith Pinto) melodic vocals and key
 s, MC's D.Wolf (Dan Wolf) and Infinite's (Carlos Aguirre) poetic and r
 apid-fire lyrics, and Jon Monahan's virtuoso guitar playing. KP steps 
 out from behind his keys to rock the mic, while Soulati is able to pla
 y the drums and rap at the same time. Spontaneous freestyles and two o
 f the freshest beat boxers on the West Coast (Soulati and Infinite) ma
 ke Felonious: onelovehiphop's live show untouchable.\nhttp://www.myspa
 ce.com/feloniousonelove\n\nS.o.u.l. Purpose has been doing shows since
  1995 and has performed with &/or opened for artists such as Eminem, G
 -Unit, Black Eyed Peas, Big Pun, RUN DMC, The Lox, Ghostface, D12, Mos
  Def, M.O.P., Capone, NORE, Xzibit, Common, Slick Rick, Flava Flav, Ta
 lib Kweli, Dead Prez, Jin, Keith Murray, Kool G. Rap, Cannibus, Nice &
  Smooth, The Beatnuts, Drez of Black Sheep, Gang Starr, Black Moon, Gz
 a, Inspecta Deck, Masta Killa, O.G.C., Immortal Technique, Faith Evans
 , Jurrasic 5,\nhttp://www.myspace.com/soulpurposemc\n\nFor more inform
 ation visit https://trueskool.com/events/dujeous-nyc-w-felonious-soul
DTSTART;TZID=America/Los_Angeles:20091109T210000
DTEND;TZID=America/Los_Angeles:20091109T234500
CATEGORIES:hip-hop
LOCATION:Coda
WEBSITE:http://codalive.com
URL:http://codalive.com
CONTACT:
ORGANIZER;CN="kung fu chris":https://trueskool.com/profile/kungfuchris
ATTACH;FMTTYPE="image/jpeg":http://storage.ning.com/topology/rest/1.0/
 file/get/2247869148?profile=original
ATTENDEE;ROLE=REQ-PARTICIPANT;PARTSTAT=ACCEPTED;RSVP=TRUE;CN="kung fu 
 chris":https://trueskool.com/profile/kungfuchris
END:VEVENT
END:VCALENDAR
