BEGIN:VCALENDAR
PRODID:NingEventWidget-v1
VERSION:2.0
METHOD:PUBLISH
BEGIN:VTIMEZONE
TZID:America/Los_Angeles
X-LIC-LOCATION:America/Los_Angeles
BEGIN:DAYLIGHT
TZOFFSETFROM:-0800
TZOFFSETTO:-0700
TZNAME:PDT
DTSTART:19700308T020000
RRULE:FREQ=YEARLY;BYMONTH=3;BYDAY=2SU
END:DAYLIGHT
BEGIN:STANDARD
TZOFFSETFROM:-0700
TZOFFSETTO:-0800
TZNAME:PST
DTSTART:19701101T020000
RRULE:FREQ=YEARLY;BYMONTH=11;BYDAY=1SU
END:STANDARD
END:VTIMEZONE
BEGIN:VEVENT
UID:1464587:Event:70828
DTSTAMP:20260420T130630Z
SUMMARY:Dub Step Beat Battle
DESCRIPTION:Phillipdrummond and Ro Knew present:\n\nRSVP ON http://GOI
 NG.COM/DUBSTEPBEATBATTLE UP TO +6 FOR FREE ENTRY B4 10:30PM!!!!\n\nDub
 step beat battle and canned food drive on Saturday Nov. 20th at Club 6
  in the dark room\n...\nThere will be a sample flip round, sample pack
  round, acapella remix, and a diggin round and it's tournament style w
 ith producers going head to head!\n\nRound 1: Sample Flip Round-contes
 tants are assigned a sample to flip for the first round\n\n\nRound 2: 
 Sample Pack Hip Hop Remix Round-contestants are given several songs to
  choose from and must make a remix/new song out of one of the Hip Hop 
 songs\n\n\n\nRound 3: Acapella Remix Round-contestants are provided an
  acapella to remix, in this case \"Bombs over Baggdad\" and the origin
 al is provided as a reference track\n\n\n\nRound 4: Diggin Round-conte
 stants must bring their own sample which they will play, then play the
  beat they made with it\n\n\n\ndownload samples here:\n\nhttp://www.me
 diafire.com/?g69z114xgz2sz56\n\n\n\nthe battle is set up tournament st
 yle so first round winners advance and compete in the next round. all 
 beats are 1 min long and are made ahead of time, and played off cd's a
 t the battle, head to head!\n\n\n\nJudged by the crowd (so bring all y
 our homeys!) DNAEBEATS, and Change the Beat Residents Mophono aka DJ C
 entipede and Dials\n\nhosted by Ro Knew and Pd\nfor more info or to en
 ter contact\nphilthy@philthybeats.com\nphilthybeats.com\n@philthydrumm
 ond\nfacebook.com/philthydrummond\n\nJohnny 5, Dials (Change the Beat)
 , and Pd on the decks\n\n$10 cover, $7 w/can of food for Glide\nfree w
 ith RSVP at http://going.com/dubstepbeatbattle b4 10:30pm\nOfficial Si
 te: http://philthybeats.com/\n\n\n\nCompetitors:\n\n\nCompetitors:\n1)
  Will Bracy Group 1 Perdiste\n2) LoGritt The Enthusiast Group 1 Perdis
 te\n3) Sloppy Group 1 Perdiste\n4) Loaded Group 1 Perdiste\n5) Builder
  Group 1 Perdiste\n6) Logan Group 1 Perdiste\n7) Don’t Tell Mom Grou
 p 1 Perdiste\n\n8) CrackHours Group 1 Perdiste\n9) Sirr Paul Group 2 N
 efertiti\n10) Fish Finger Group 2 Nefertiti\n11) Sublo & Maitre'D Grou
 p 2 Nefertiti\n12) Sean Ebo Group 2 Nefertiti\n13) Bebel Group 2 Nefer
 titi\n14) DJ Theory Group 2 Nefertiti\n15) DJ Trevor Young Group 3 I f
 eel you\n16) Cheebs Group 3 I Feel You\n17) Fivel Group 3 I Feel You\n
 18) Kaifeng Group 3 I Feel You\n19) Ion the Prize Group 4 Erkin Koray\
 n20) Le Hard Group 4 Erkin Koray\n21) Pillijah Group 4 Erkin Koray\n22
 ) Quixote the Rhythm Weaver Group 4 Erkin Koray\n23) SONNY DOOM Group 
 4 Erkin Koray\n24) Hiright Group 4 Erikin Koray\n25) Mikos Group 4 Erk
 in Koray\nOfficial Site: http://philthybeats.com\n\nFor more informati
 on visit https://trueskool.com/events/dub-step-beat-battle
DTSTART;TZID=America/Los_Angeles:20101120T220000
DTEND;TZID=America/Los_Angeles:20101121T020000
CATEGORIES:san, francisco, "ca."
LOCATION:Club Six
WEBSITE:http://www.clubsix1.com
URL:http://www.clubsix1.com
CONTACT:415-863-1221
ORGANIZER;CN=Cecily:https://trueskool.com/profile/Cecily
ATTACH;FMTTYPE="image/jpeg":http://storage.ning.com/topology/rest/1.0/
 file/get/2247894523?profile=original
ATTENDEE;ROLE=REQ-PARTICIPANT;PARTSTAT=ACCEPTED;RSVP=TRUE;CN=Cecily:ht
 tps://trueskool.com/profile/Cecily
END:VEVENT
END:VCALENDAR
