BEGIN:VCALENDAR
PRODID:NingEventWidget-v1
VERSION:2.0
METHOD:PUBLISH
BEGIN:VTIMEZONE
TZID:America/Los_Angeles
X-LIC-LOCATION:America/Los_Angeles
BEGIN:DAYLIGHT
TZOFFSETFROM:-0800
TZOFFSETTO:-0700
TZNAME:PDT
DTSTART:19700308T020000
RRULE:FREQ=YEARLY;BYMONTH=3;BYDAY=2SU
END:DAYLIGHT
BEGIN:STANDARD
TZOFFSETFROM:-0700
TZOFFSETTO:-0800
TZNAME:PST
DTSTART:19701101T020000
RRULE:FREQ=YEARLY;BYMONTH=11;BYDAY=1SU
END:STANDARD
END:VTIMEZONE
BEGIN:VEVENT
UID:1464587:Event:62944
DTSTAMP:20260420T113057Z
SUMMARY:DUB MISSION's 14th Anniversary! feat. dr. ISRAEL backed by PAT
 CH DUB & KATRINA BLACKSTONE, plus live set by TURBO SONIDERO FUTURISTI
 CO with MC MEX TAPE on the mic & DJ SEP
DESCRIPTION:DUB MISSION's 14th Anniversary!\nDUB MISSION celebrates 14
  years of spreading the dub virus with a Bay Area exclusive show:\nfea
 t. dr. ISRAEL (Method of Defiance/ M.O.D. technologies/Dreadtone Inter
 national/Roir Records)\nbacked by PATCH DUB (ex-Heavyweight Dub Champi
 on) on effects and science;\nand KATRINA BLACKSTONE on vocals\nplus li
 ve Ableton set by TURBO SONIDERO FUTURISTICO (Contra Discos)\nwith MC 
 MEX TAPE on the mic\nand DJ SEP\nat Elbo Room - 647 Valencia x 17th - 
 SF - 21+ - club line: 415 552 7788\n9 pm to 2 am - Limited $10 advance
 /$14 door\nAdvance tickets: www.brownpapertickets.com & www.jambasetic
 kets.com\nhttp://www.dubmissionsf.com\n\n\nOn this night, dr. ISRAEL w
 ill be performing exclusive versions of songs from his classic dub and
  dancehall recordings, along with sound system remix versions of new s
 ingles from upcoming releases on Bill Laswell’s new M.O.D. technolog
 ies imprint. He will be backed by PATCH DUB on effects and science and
  KATRINA BLACKSTONE on vocals. More information: http://www.dubmission
 sf.com/DM14.html\n\nFor more information visit https://trueskool.com/e
 vents/dub-missions-14th-anniversary
DTSTART;TZID=America/Los_Angeles:20100905T210000
DTEND;TZID=America/Los_Angeles:20100906T020000
CATEGORIES:dub, dubstep, dancehall, reggae, live, music, soundsystem, 
 djs
LOCATION:Elbo Room
WEBSITE:http://www.elbo.com
URL:http://www.elbo.com
CONTACT:415-552-7788
ORGANIZER;CN="DJ SEP":https://trueskool.com/profile/DJSEP
ATTACH;FMTTYPE="image/jpeg":http://storage.ning.com/topology/rest/1.0/
 file/get/2247883894?profile=original
ATTENDEE;ROLE=REQ-PARTICIPANT;PARTSTAT=ACCEPTED;RSVP=TRUE;CN="DJ SEP":
 https://trueskool.com/profile/DJSEP
END:VEVENT
END:VCALENDAR
