BEGIN:VCALENDAR
PRODID:NingEventWidget-v1
VERSION:2.0
METHOD:PUBLISH
BEGIN:VTIMEZONE
TZID:America/Los_Angeles
X-LIC-LOCATION:America/Los_Angeles
BEGIN:DAYLIGHT
TZOFFSETFROM:-0800
TZOFFSETTO:-0700
TZNAME:PDT
DTSTART:19700308T020000
RRULE:FREQ=YEARLY;BYMONTH=3;BYDAY=2SU
END:DAYLIGHT
BEGIN:STANDARD
TZOFFSETFROM:-0700
TZOFFSETTO:-0800
TZNAME:PST
DTSTART:19701101T020000
RRULE:FREQ=YEARLY;BYMONTH=11;BYDAY=1SU
END:STANDARD
END:VTIMEZONE
BEGIN:VEVENT
UID:1464587:Event:38626
DTSTAMP:20260421T080346Z
SUMMARY:DUB MISSION'S 13th ANNIVERSARY! feat. TWILIGHT CIRCUS DUB SOUN
 D SYSTEM (Holland), YOSSI FINE (Israel) & DJ SEP
DESCRIPTION:DUB MISSION celebrates 13 years of spreading the dub virus
  with a Bay Area exclusive Dub Summit:\nfeaturing TWILIGHT CIRCUS DUB 
 SOUND SYSTEM aka RYAN MOORE (M Records/The Netherlands)\nYOSSI FINE (E
 x-Centric Sound System/Israel)\nand DJ SEP\nat Elbo Room - 1+ -\n9 pm-
 2 am - $12 advance / $15 day of show – Adv. tix: www.brownpaperticke
 ts.com & www.jambasetickets.com\nhttp://www.dubmissionsf.com\n\nWidely
  recognized as one of the most exciting and original artists working i
 n dub today, multi-instrumentalist, producer and sound engineer RYAN M
 OORE aka TWILIGHT CIRCUS DUB SOUND SYSTEM has been involved with dub f
 or the last 25 years. Moore's take on dub is a radical application of 
 the ideology of dub pioneers like King Tubby, Lee Perry, and Augustus 
 Pablo. His bass lines weigh tons, his atmospheres are cadaverous, and 
 his arrangements are kaleidoscopic while seeming inconspicuous: he “
 plays” the sound studio. Based in Holland, Moore released over 35 re
 cordings (some vinyl-only) on his own label M Records since 1995, and 
 worked with many reggae greats. His DJ set at DUB MISSION will include
  exclusive dub plates, rare reggae dub classics, modern dance tracks, 
 ambient sounds, and samples all mixed into an original and danceable s
 onic treat. www.twilightcircus.com\n\n\"One of the most creative and o
 riginal Dub wizards in the world!” - Reggae Vibes\n\"...wrestles wit
 h history's titans and leaves the ring commanding 'nuff respect!” 
  Spin\n\"Charm, authenticity...wit and proficiency...utterly brillian
 t,\" – The Wire\n“Moore’s technique remains superior to anyone w
 orking in dub today.” – Exclaim!\n\n\nWhether as a producer, arran
 ger or bassist, YOSSI FINE's unique and undeniable talents have made h
 im one of the most in-demand names throughout a number of different ge
 nres. Throughout his years of playing and recording, he has worked wit
 h an outstanding array of artists, including David Bowie, Lou Reed, St
 anley Jordan, Gil Evans, Ol’ Dirty Bastard, Naughty By Nature, and G
 nawa master Hassan Hakmounm. Fusing the sounds of Africa, Jamaica, the
  New World and the Middle East, Yossi’s influence in the production 
 world has gone global, producing top Jamaican artists like conscious-d
 ancehall master Anthony B, and modern roots artists Prezident Brown an
 d Chedizek. He has mixed Malian blues griot Vieux Farka Toure and has 
 worked with Karsh Kale, Antibalas, Hadag Nahash, and Hamsa Lila. On th
 is night, Yossi will play tunes from his band, Ex-Centric Sound System
  as well as countless other productions and remixes, bringing a night 
 of exceptionally heavy riddims to the Dub Mission stage. www.yossifine
 .com\n\n\nOne of the longest running dub & reggae parties in the U.S.,
  possibly the world, DUB MISSION is a weekly Sunday night party based 
 in San Francisco, presenting cutting-edge dub, roots reggae, dancehall
  and dubstep. Dub Mission has featured artists from all over the world
 . A partial list includes Adrian Sherwood & the ON-U Sound System, Mad
  Professor & the Ariwa Sound System, the Scientist, and more. www.dubm
 issionsf.com\n\nFor more information visit https://trueskool.com/event
 s/dub-missions-13th-anniversary-1
DTSTART;TZID=America/Los_Angeles:20090906T210000
DTEND;TZID=America/Los_Angeles:20090907T020000
CATEGORIES:dub, dubstep, dancehall, reggae, roots, live, music, clubs,
  san, francisco
LOCATION:Elbo Room
WEBSITE:http://www.dubmissionsf.com
URL:http://www.dubmissionsf.com
CONTACT:415 552 7788
ORGANIZER;CN="DJ SEP":https://trueskool.com/profile/DJSEP
ATTACH;FMTTYPE="image/jpeg":
ATTENDEE;ROLE=REQ-PARTICIPANT;PARTSTAT=ACCEPTED;RSVP=TRUE;CN="DJ SEP":
 https://trueskool.com/profile/DJSEP
END:VEVENT
END:VCALENDAR
