BEGIN:VCALENDAR
PRODID:NingEventWidget-v1
VERSION:2.0
METHOD:PUBLISH
BEGIN:VTIMEZONE
TZID:America/Los_Angeles
X-LIC-LOCATION:America/Los_Angeles
BEGIN:DAYLIGHT
TZOFFSETFROM:-0800
TZOFFSETTO:-0700
TZNAME:PDT
DTSTART:19700308T020000
RRULE:FREQ=YEARLY;BYMONTH=3;BYDAY=2SU
END:DAYLIGHT
BEGIN:STANDARD
TZOFFSETFROM:-0700
TZOFFSETTO:-0800
TZNAME:PST
DTSTART:19701101T020000
RRULE:FREQ=YEARLY;BYMONTH=11;BYDAY=1SU
END:STANDARD
END:VTIMEZONE
BEGIN:VEVENT
UID:1464587:Event:30994
DTSTAMP:20260421T020259Z
SUMMARY:Dub Mission w/ KUSH ARORA VS. JUAKALI & DJ SEP
DESCRIPTION:Sunday, April 26, 2009\nDub Mission presents a live bashme
 nt session of dub, dubstep, steppers and dancehall with\nKUSH ARORA (S
 urya Dub, KAP, RecordLabelRecords)\nVS. JUAKALI (Foreign Familiar, Dub
  War, Sub Swara)\nA record release party for Kush’s The Dread Bass C
 hronicles on KAP\nplus DJ SEP\nat Elbo Room - 647 Valencia Street - SF
  - Club is 21+ - Club info: 415 552 7788\n9 pm to 2 am - $7 advance (l
 imited) /$8 door\nadvance tickets at www.brownpapertickets.com and www
 .jambasetickets.com\nMore info: http://www.dubmissionsf.com/KUSHARORA2
 009.html\nCheck out the videos on youtube: http://www.youtube.com/dubm
 ission\n\n\n\nAnother unforgettable bashment session comes our way thi
 s Sunday night, as Kush Arora and JuaKali preview tracks from The Drea
 d Bass Chronicles, the new album on Kush’s own record label, KAP. Th
 e night will also feature a special set of JuaKali's new dubplates and
  Kush Arora's steppers and dubstep collection.\n\nOn The Dread Bass Ch
 ronicles, Kush Arora returns with a collection of his Punjabi-soaked d
 ance productions, accompanied by the finest MC’s in electronic dance
 hall: Warrior Queen (Bug/Ninjatune), JuaKali (Dub War/SubSwara), MC Zu
 lu (Ninjatune/Project Blowed), and Bongo Chilli (R8 Records). His seve
 nth record, The Dread Bass Chronicles’ eleven songs show Kush’s ev
 olution from his Indo-Reggae roots, to what is being recognized worldw
 ide as his “Dread Bass” signature sound. More info here: http://ww
 w.dubmissionsf.com/KUSHARORA2009.html\n\nFor more information visit ht
 tps://trueskool.com/events/dub-mission-w-kush-arora-vs
DTSTART;TZID=America/Los_Angeles:20090426T210000
DTEND;TZID=America/Los_Angeles:20090427T020000
CATEGORIES:reggae, dub, dubstep, live, sound, system, djs, nightlife, 
 san, francisco, steppers, dancehall
LOCATION:Elbo Room
WEBSITE:http://www.dubmissionsf.com
URL:http://www.dubmissionsf.com
CONTACT:415 552 7788
ORGANIZER;CN="DJ SEP":https://trueskool.com/profile/DJSEP
ATTACH;FMTTYPE="image/jpeg":http://storage.ning.com/topology/rest/1.0/
 file/get/2247856254?profile=original
ATTENDEE;ROLE=REQ-PARTICIPANT;PARTSTAT=ACCEPTED;RSVP=TRUE;CN="DJ SEP":
 https://trueskool.com/profile/DJSEP
END:VEVENT
END:VCALENDAR
