BEGIN:VCALENDAR
PRODID:NingEventWidget-v1
VERSION:2.0
METHOD:PUBLISH
BEGIN:VTIMEZONE
TZID:America/Los_Angeles
X-LIC-LOCATION:America/Los_Angeles
BEGIN:DAYLIGHT
TZOFFSETFROM:-0800
TZOFFSETTO:-0700
TZNAME:PDT
DTSTART:19700308T020000
RRULE:FREQ=YEARLY;BYMONTH=3;BYDAY=2SU
END:DAYLIGHT
BEGIN:STANDARD
TZOFFSETFROM:-0700
TZOFFSETTO:-0800
TZNAME:PST
DTSTART:19701101T020000
RRULE:FREQ=YEARLY;BYMONTH=11;BYDAY=1SU
END:STANDARD
END:VTIMEZONE
BEGIN:VEVENT
UID:1464587:Event:239170
DTSTAMP:20260421T064700Z
SUMMARY:DUB MISSION’s 17th ANNIVERSARY!
DESCRIPTION:Sunday, September 1, 2013\nDUB MISSION’s 17th ANNIVERSAR
 Y!\nFeaturing DUB MISSIONs DJ SEP, MANEESH the TWISTER, VINNIE ESPARZA
  and LUDICHRIS on the turntables\nRecord Release party for BIGGERING R
 IDDIM EP (produced by DJ Sep with vocals by dr Israel & Mista Chatman)
 \nat Elbo Room - 647 Valencia Street, San Francisco, CA 94110 - Club i
 s 21+ - Club info: 415 552 7788\n9 pm to 2 am - $7 Adv./$10 Door - Lim
 ited advance tickets at www.inticketing.com and www.brownpapertickets.
 com\n \nOn Sunday, September 1st, DUB MISSION will celebrate 17 years
  of spreading the dub virus throughout the Bay Area and beyond. DUB MS
 SION residents DJ SEP, MANEESH the TWISTER, VINNIE ESPARZA, and LUDICH
 RIS\nwill have the dance floor jumping all night long. The night will 
 also be a record release party for the  Biggering Riddim EP, produced
  by DJ Sep and featuring vocals by two of Dub Missions favorite guests
  over the years: dr Israel and Mista Chatman.\nNOT to be missed!\nMore
  info:  www.dubmission.com\nRSVP: www.facebook.com/events/17423312275
 0821/?context=create  Listen to Biggering Riddim EP here:  www.soundc
 loud.com/djsep/sets/biggering-riddim\n \nDUB MISSION is one of the lo
 ngest-running dub & reggae parties in the world. Every Sunday night at
  the Elbo Room in the Mission District of San Francisco, Dub Mission p
 resents cutting-edge dub, roots reggae and dancehall. DUB MISSION has 
 featured artists from all over the world, including Adrian Sherwood & 
 the ON-U Sound System, Mad Professor & the Ariwa Sound System, the Sci
 entist, Mungo's Hi Fi with Soom T, Zion Train, Twilight Circus Dub Sou
 nd System, Prince Fatty Sound System, Nickodemus and The Spy From Cair
 o (NYC’s Turntables On the Hudson) and many many others.\n \nwww.du
 bmission.com\n@djsepdubmission\nwww.facebook.com/DubMissionSF\nwww.you
 tube.com/dubmission\nwww.soundcloud.com/dubmissionsf for free download
 s your favorite DUB MISSION DJs\nwww.instagram.com/dubmissionsf for ex
 clusive photos.\n \n \n\nFor more information visit https://trueskoo
 l.com/events/dub-mission-s-17th-anniversary-2
DTSTART;TZID=America/Los_Angeles:20130901T210000
DTEND;TZID=America/Los_Angeles:20130902T020000
CATEGORIES:live, music, djs, club, party, sound, system, dub, reggae, 
 dance, dancehall, dubstep, roots, san, francisco, nightlife, dj, sep, 
 j, boogie, maneesh, the, twister, vinnie, esparza, ludichris
LOCATION:Elbo Room
WEBSITE:http://www.elbo.com
URL:http://www.elbo.com
CONTACT:415-552-7788
ORGANIZER;CN="DJ SEP":https://trueskool.com/profile/DJSEP
ATTACH;FMTTYPE="image/jpeg":http://storage.ning.com/topology/rest/1.0/
 file/get/2247945511?profile=original
ATTENDEE;ROLE=REQ-PARTICIPANT;PARTSTAT=ACCEPTED;RSVP=TRUE;CN="DJ SEP":
 https://trueskool.com/profile/DJSEP
END:VEVENT
END:VCALENDAR
