BEGIN:VCALENDAR
PRODID:NingEventWidget-v1
VERSION:2.0
METHOD:PUBLISH
BEGIN:VTIMEZONE
TZID:America/Los_Angeles
X-LIC-LOCATION:America/Los_Angeles
BEGIN:DAYLIGHT
TZOFFSETFROM:-0800
TZOFFSETTO:-0700
TZNAME:PDT
DTSTART:19700308T020000
RRULE:FREQ=YEARLY;BYMONTH=3;BYDAY=2SU
END:DAYLIGHT
BEGIN:STANDARD
TZOFFSETFROM:-0700
TZOFFSETTO:-0800
TZNAME:PST
DTSTART:19701101T020000
RRULE:FREQ=YEARLY;BYMONTH=11;BYDAY=1SU
END:STANDARD
END:VTIMEZONE
BEGIN:VEVENT
UID:1464587:Event:309158
DTSTAMP:20260421T040543Z
SUMMARY:Dub Mission presents Roommate (Avocaudio/King Dubbist), plus D
 J Sep & DJ Beset (North Bay) at Elbo Room
DESCRIPTION:Dub Mission presents a Bay Area-exclusive show: \nfeat
 uring the return of \nROOMMATE (Avocaudio/King Dubbist)  plus DJ 
 SEP (Dub Mission)\nand DJ BESET (North Bay)  at Elbo Room - 647 Va
 lencia Street, San Francisco, CA 94110 - 21+ - 415 552 7788  9 pm to 
 2 am - $6 Adv./$9 Door\nLimited Adv. tix: http://www.jambasetickets.c
 om/events/389668 andhttp://www.brownpapertickets.com/event/566801\nMo
 re info: www.dubmission.com  Roommate (aka Justin McCauley)s musical 
 career that can only be described as prolific and ever- changing. Over
  a decade of solid DJ'ing and countless original productions have brou
 ght him to the forefront of the worldwide bass music community. Beginn
 ing his musical quest with guitar lessons at the age of 11, Roommate h
 as since developed his craft by integrating organic and electronic sou
 nds into his productions. His first self-released solo album Dubfunk V
 ol. 1 (2003) put him on the musical map. When dubstep first hit the U.
 S., Roommate was quick to find a love and understanding for the music.
  Joining forces with L.A.-based artist and long time friend No Thing, 
 he formed Babylon System which contributed many of the early U.S. dubs
 tep releases, including gems like \"50 Blocks Away\",\" Examination of
  Time\", and \"Loaded.\" Years of global touring followed with undying
  passion and intensity at every show. Co-founding the rip roaring labe
 l Hollow Point Recordings with friend and artist SPL was another huge 
 step for Roommate. He gained confidence from consistent releases and g
 reat sales and used Hollow Point to push the boundaries of sound and e
 xpress his musical tastes. He also collaborated with other artists, fo
 rming OSC with Antiserum, and Krttyr with E Pill. King Dubbist and Avo
 caudio are Roommate's latest forward-thinking incarnations. Focusing o
 n huge vibes and stellar production, these labels span from dubstep to
  trip-hop and reggae, and encompass Roommate's broad and compelling lo
 ve for musical freshness. Roommate's live sets never disappoint, alway
 s reflecting both his production prowess and skills as a DJ. \nHaving
  recently moved to Los Angeles, he returns with a Bay Area-exclusive 
 show at Dub Mission where he will be previewing his upcoming releases 
 Inna Di Lions Den and Hit The Spot, as well as brand new remixes for S
 izzla, Ras Zacharri and Lutan Fyah.  www.soundcloud.com/roommatedubs 
 www.kingdubbist.com www.avocaudio.com\n\nVoted Bay Areas Best Reggae C
 lub by S.F. Bay Guardian readers and now in its 18th year, Dub 
 Mission is one of the longest-running parties in the world, presentin
 g cutting-edge dub, roots reggae and dancehall every Sunday at the Elb
 o Room. Dub Mission has featured artists from all over the world, inc
 luding Adrian Sherwood & the ON-U Sound System, Mad Professor & the Ar
 iwa Sound System, the Scientist, Mungo's Hi Fi with Soom T, Zion Train
 , Twilight Circus Dub Sound System, Prince Fatty Sound System, Nickode
 mus & The Spy From Cairo (NYC's Turntables On the Hudson).\nwww.dubmis
 sion.com www.facebook.com/DubMissionSF www.youtube.com/dubmission www.
 soundcloud.com/dubmissionsf\nwww.instagram.com/dubmissionsf\n\nFor mor
 e information visit https://trueskool.com/events/dub-mission-presents-
 roommate-avocaudio-king-dubbist-plus-dj-sep
DTSTART;TZID=America/Los_Angeles:20140216T210000
DTEND;TZID=America/Los_Angeles:20140217T020000
CATEGORIES:roommate, dj, sep, beset, dub, mission, san, francisco, bay
 , area, sunday, "\"dancehall", "“dub”", "“dj”", "“nightlife
 ", "“sound", system, dancing
LOCATION:Elbo Room
WEBSITE:https://www.facebook.com/events/174233122750821/?context=creat
 e
URL:https://www.facebook.com/events/174233122750821/?context=create
CONTACT:415-552-7788
ORGANIZER;CN="DJ SEP":https://trueskool.com/profile/DJSEP
ATTACH;FMTTYPE="image/jpeg":http://storage.ning.com/topology/rest/1.0/
 file/get/2247956690?profile=original
ATTENDEE;ROLE=REQ-PARTICIPANT;PARTSTAT=ACCEPTED;RSVP=TRUE;CN="DJ SEP":
 https://trueskool.com/profile/DJSEP
END:VEVENT
END:VCALENDAR
