BEGIN:VCALENDAR
PRODID:NingEventWidget-v1
VERSION:2.0
METHOD:PUBLISH
BEGIN:VTIMEZONE
TZID:America/Los_Angeles
X-LIC-LOCATION:America/Los_Angeles
BEGIN:DAYLIGHT
TZOFFSETFROM:-0800
TZOFFSETTO:-0700
TZNAME:PDT
DTSTART:19700308T020000
RRULE:FREQ=YEARLY;BYMONTH=3;BYDAY=2SU
END:DAYLIGHT
BEGIN:STANDARD
TZOFFSETFROM:-0700
TZOFFSETTO:-0800
TZNAME:PST
DTSTART:19701101T020000
RRULE:FREQ=YEARLY;BYMONTH=11;BYDAY=1SU
END:STANDARD
END:VTIMEZONE
BEGIN:VEVENT
UID:1464587:Event:320988
DTSTAMP:20260421T023414Z
SUMMARY:Dub Mission presents Jahdan Blakkamoore (only Bay Area show) w
 ith Relic Secure & Deejay Theory; plus DJ Sep at Elbo Room
DESCRIPTION:Dub Mission presents a Bay Area-exclusive show\nJahdan Bla
 kkamoore: The Blakkamoore Chronicles Tour\nLIVE Sound System performin
 g with Relic Secure on the mic\nbacked by Deejay Theory (LargeUp/Facti
 on Sound Crew)\nplus DJ Sep\nat Elbo Room - 647 Valencia St – SF - 2
 1+ - 415 552 7788\n9 pm to 2 am - $11 Adv./$14 Door\nAdv. tix:www.brow
 npapertickets.com and www.inticketing\n \n\"Jahdan Blakkamoore is eas
 ily the hottest artist making reggae outside of Jamaica right now and 
 one of the hottest period.\" – LargeUp/Okay Player\nJahdan Blakkamoo
 re: \nwww.blakkamoore.com\nwww.facebook.com/Jahdan-Blakkamoore\nwww.s
 oundcloud.com/JahdanBlakkamoore\nwww.youtube.com/user/mrjahdanblakkamo
 ore\nAdvance tickets: www.dubmission.com\n\nVoted Bay Area’s Best Re
 ggae Club by S.F. Bay Guardian readers and now in its 18th year, Dub M
 ission is one of the longest-running parties in the world, presenting 
 cutting-edge dub, roots reggae and dancehall every Sunday at the Elbo 
 Room. Dub Mission has featured artists from all over the world, includ
 ing Adrian Sherwood & the ON-U Sound System, Mad Professor & the Ariwa
  Sound System, the Scientist, Mungo's Hi Fi with Soom T, Zion Train, T
 wilight Circus Dub Sound System, Prince Fatty Sound System, Nickodemus
  & The Spy From Cairo (NYC's Turntables On the Hudson) and many others
 .\nwww.dubmission.com www.facebook.com/DubMissionSF www.youtube.com/du
 bmission www.soundcloud.com/dubmissionsf\n\nFor more information visit
  https://trueskool.com/events/dub-mission-presents-mungo-s-hi-fi-uk-fe
 at-solo-banton-plus-dj-2
DTSTART;TZID=America/Los_Angeles:20140323T210000
DTEND;TZID=America/Los_Angeles:20140324T020000
CATEGORIES:jahdan, blakkamoore, deejay, theory, hip, hop, bay, area, e
 xclusive, sound, system, reggae, roots, dub, dancehall, dance, party, 
 san, francisco, live, music, nightlife, djs, mission
LOCATION:Elbo Room
WEBSITE:http://www.dubmission.com  https://maps.google.com/maps?q=647+
 Valencia+Street,+San+Francisco,+CA&hl=en&sll=37.269174,-119.306607&ssp
 n=15.333792,23.620605&oq=647+valen&hnear=647+Valencia+St,+San+Francisc
 o,+California+94110&t=m&z=17
URL:http://www.dubmission.com  https://maps.google.com/maps?q=647+Vale
 ncia+Street,+San+Francisco,+CA&hl=en&sll=37.269174,-119.306607&sspn=15
 .333792,23.620605&oq=647+valen&hnear=647+Valencia+St,+San+Francisco,+C
 alifornia+94110&t=m&z=17
CONTACT:415-552-7788
ORGANIZER;CN="DJ SEP":https://trueskool.com/profile/DJSEP
ATTACH;FMTTYPE="image/jpeg":http://storage.ning.com/topology/rest/1.0/
 file/get/2247958790?profile=original
ATTENDEE;ROLE=REQ-PARTICIPANT;PARTSTAT=ACCEPTED;RSVP=TRUE;CN="DJ SEP":
 https://trueskool.com/profile/DJSEP
END:VEVENT
END:VCALENDAR
