BEGIN:VCALENDAR
PRODID:NingEventWidget-v1
VERSION:2.0
METHOD:PUBLISH
BEGIN:VTIMEZONE
TZID:America/Los_Angeles
X-LIC-LOCATION:America/Los_Angeles
BEGIN:DAYLIGHT
TZOFFSETFROM:-0800
TZOFFSETTO:-0700
TZNAME:PDT
DTSTART:19700308T020000
RRULE:FREQ=YEARLY;BYMONTH=3;BYDAY=2SU
END:DAYLIGHT
BEGIN:STANDARD
TZOFFSETFROM:-0700
TZOFFSETTO:-0800
TZNAME:PST
DTSTART:19701101T020000
RRULE:FREQ=YEARLY;BYMONTH=11;BYDAY=1SU
END:STANDARD
END:VTIMEZONE
BEGIN:VEVENT
UID:1464587:Event:38620
DTSTAMP:20260420T230417Z
SUMMARY:DUB MISSION presents live: ROB SYMEONN & MIKEY ASSASSIN (Brook
 lyn/NY) plus DJ SEP & LUDICHRIS
DESCRIPTION:Sunday, August 23, 2009\nDUB MISSION presents a San Franci
 sco exclusive show:\nfrom Brooklyn, NY, LYRICS SET TO MUSIC TOUR 2009 
 featuring\nROB SYMEONN live on the mic with MIKEY ASSASSIN on turntabl
 es\nplus DJ SEP and LUDICHRIS\nat Elbo Room - 647 Valencia Street - SF
  - Club is 21+ - Club info: 415 552 7788\n9 pm to 2 am - $7 advance/ $
 10 day of show\nAdvance tickets at www.brownpapertickets.com and www.j
 ambasetickets.com\nMore info: http://www.dubmissionsf.com/robsymeonn20
 09.html\n\nThis night marks the return of Brooklyn’s ROB SYMEONN to 
 the Dub Mission stage, where he will be performing a set of brand new 
 and original modern roots classics, dub sound system style, with veter
 an DJ/producer MIKEY ASSASSIN behind the decks.\n\nA passionate lyrici
 st catching the attention of a worldwide audience, Rastafarian singer 
 ROB SYMEONN blends roots riddims with sweet, smoky vocals and an alway
 s-uplifting message, something he has done for over twenty years. Rob 
 has shared the stage with the Wailing Souls, Sister Carol, Meditations
 , I Wayne, Fanton Mojan, Kerry Kill, and Bitty McLean. Rob’s third s
 olo album is due out in late Fall 2009. www.myspace.com/robsymeonn\n\n
 Prime time DJ MIKEY ASSASSIN--or “The Fyah Lord” as he is known in
  reggae circles--is about to release his first compilation \"Lyrics Se
 t To Music\" Vol. 1, which includes veterans like Sugar Minott, Sluggy
  Ranks, and newer artists Rob Symeonn, Bigga Haitian, and Shanti Rebll
 ah. Mikey tours frequently with his sound system, Demolition Muzik, bl
 azing conscious music along with the best of the new roots and danceha
 ll chart toppers. www.myspace.com/mikeyassassin1\n\nFor more informati
 on visit https://trueskool.com/events/dub-mission-presents-live-rob
DTSTART;TZID=America/Los_Angeles:20090823T210000
DTEND;TZID=America/Los_Angeles:20090824T020000
CATEGORIES:dub, dubstep, dancehall, live, sound, system, reggae, roots
 , music, clubs, san, francisco
LOCATION:Elbo Room
WEBSITE:http://www.dubmissionsf.com
URL:http://www.dubmissionsf.com
CONTACT:415 552 7788
ORGANIZER;CN="DJ SEP":https://trueskool.com/profile/DJSEP
ATTACH;FMTTYPE="image/jpeg":http://storage.ning.com/topology/rest/1.0/
 file/get/2247861754?profile=original
ATTENDEE;ROLE=REQ-PARTICIPANT;PARTSTAT=ACCEPTED;RSVP=TRUE;CN="DJ SEP":
 https://trueskool.com/profile/DJSEP
END:VEVENT
END:VCALENDAR
