BEGIN:VCALENDAR
PRODID:NingEventWidget-v1
VERSION:2.0
METHOD:PUBLISH
BEGIN:VTIMEZONE
TZID:America/Los_Angeles
X-LIC-LOCATION:America/Los_Angeles
BEGIN:DAYLIGHT
TZOFFSETFROM:-0800
TZOFFSETTO:-0700
TZNAME:PDT
DTSTART:19700308T020000
RRULE:FREQ=YEARLY;BYMONTH=3;BYDAY=2SU
END:DAYLIGHT
BEGIN:STANDARD
TZOFFSETFROM:-0700
TZOFFSETTO:-0800
TZNAME:PST
DTSTART:19701101T020000
RRULE:FREQ=YEARLY;BYMONTH=11;BYDAY=1SU
END:STANDARD
END:VTIMEZONE
BEGIN:VEVENT
UID:1464587:Event:41434
DTSTAMP:20260421T190113Z
SUMMARY:Dub Mission presents KUSH ARORA, MC ZULU, THE SPIT BROTHERS, D
 J SEP
DESCRIPTION:DUB MISSION presents\nA night of Dub, Dread bass, Dubstep,
  Steppers & UK Funky Vibes inna Live & Soundsystem Style!\nwith KUSH A
 RORA (Surya Dub, Surefire) alongside MC ZULU (Ninjatune/Chicago, IL)\n
 plus THE SPIT BROTHERS (Dubs Alive Records)\nfeat. Bakir & Dubsworth\n
 and DJ SEP (Dub Mission/Kpfa)\nat Elbo Room: 647 Valencia Street, San 
 Francisco - Club is 21+ - Club info: 415 552 7788\n9 pm to 2 am - $8 a
 dv./$10 door - Advance tickets at www.brownpapertickets.com and www.ja
 mbasetickets.com\nMore info: http://www.dubmissionsf.com/kush-zulu-spi
 tbrothers2009.html\n\nFor more information visit https://trueskool.com
 /events/dub-mission-presents-kush
DTSTART;TZID=America/Los_Angeles:20091011T210000
DTEND;TZID=America/Los_Angeles:20091012T020000
CATEGORIES:dub, dread, bass, dubstep, steppers, uk, funky, vibes, danc
 ehall, reggae, live, music, djs, soundsystem
LOCATION:Elbo Room, San Francisco
WEBSITE:http://www.dubmissionsf.com
URL:http://www.dubmissionsf.com
CONTACT:415-552-7788
ORGANIZER;CN="DJ SEP":https://trueskool.com/profile/DJSEP
ATTACH;FMTTYPE="image/jpeg":http://storage.ning.com/topology/rest/1.0/
 file/get/2247866547?profile=original
ATTENDEE;ROLE=REQ-PARTICIPANT;PARTSTAT=ACCEPTED;RSVP=TRUE;CN="DJ SEP":
 https://trueskool.com/profile/DJSEP
END:VEVENT
END:VCALENDAR
