BEGIN:VCALENDAR
PRODID:NingEventWidget-v1
VERSION:2.0
METHOD:PUBLISH
BEGIN:VTIMEZONE
TZID:America/Los_Angeles
X-LIC-LOCATION:America/Los_Angeles
BEGIN:DAYLIGHT
TZOFFSETFROM:-0800
TZOFFSETTO:-0700
TZNAME:PDT
DTSTART:19700308T020000
RRULE:FREQ=YEARLY;BYMONTH=3;BYDAY=2SU
END:DAYLIGHT
BEGIN:STANDARD
TZOFFSETFROM:-0700
TZOFFSETTO:-0800
TZNAME:PST
DTSTART:19701101T020000
RRULE:FREQ=YEARLY;BYMONTH=11;BYDAY=1SU
END:STANDARD
END:VTIMEZONE
BEGIN:VEVENT
UID:1464587:Event:32188
DTSTAMP:20260420T180928Z
SUMMARY:DUB MISSION presents DR. ISRAEL, LADY K & PATCH, plus DJ SEP
DESCRIPTION:Sunday, May 24, 2009\nDUB MISSION presents an exclusive Ba
 y Area Performance and single release party by\nDR. ISRAEL (Dreadtone 
 International/Roir Records/revolutionsound)\nin a live dub set feat. L
 ADY K and PATCH (Heavyweight Dub Champion)\nCelebrating the release of
  new singles One Love, and Dub Fyah Burn\nplus DJ SEP\nat Elbo Room - 
 647 Valencia Street - SF - Club is 21+ - Club info: 415 552 7788\n9 pm
  to 2 am - $8 advance (limited) / $10 door\nadvance tickets at www.bro
 wnpapertickets.com and www.jambasetickets.com\nwww.dubmissionsf.com\n\
 nOn this night, DR. ISRAEL will world-premiere his new touring band, f
 eaturing the sultry Lady K on vocals, and Patch of Heavyweight Dub Cha
 mpion on sonics. Doc will be performing songs from his classic dub and
  dancehall recordings, along with selected singles from his upcoming r
 elease on his new revolutionsound imprint.\n\nDR. ISRAEL is a vocalist
 , producer, engineer, actor and revolutionary, based in Brooklyn New Y
 ork. The Doctor’s work has always had a foundation in the deep tradi
 tion of dub, dance hall and reggae, but what makes him stand out is hi
 s ability to fuse these styles with drum and bass, hip hop, and even p
 unk and metal. His trademark sonically devastating base tones and poli
 tically conscious lyrics are always delivered in a surprisingly access
 ible format for such an underground Icon. Some of his most notable sol
 o releases are the underground hit albums “Inna City Pressure” and
  the chart topping “Patterns of War”. He has also made countless g
 uest vocal, remix, and production appearances with the likes of Rancid
 , Praxis, Santo Gold, Sepultura, and Sublime to name a few. Most recen
 tly he has been touring extensively through out the U.S., Europe, Cana
 da and Japan, for solo dub sets, and as a vocalist for Bill Laswell’
 s Method of Defiance project. The doctor is currently recording a new 
 full-length album scheduled for a fall release. Collaborators include 
 Mad Professor, Bill Laswell, Killlah Priest, Lady K, Patch, and many o
 thers. For more information and music, please visit:\nhttp://myspace.c
 om/drisrael\nhttp://www.youtube.com/revolutionsound\nhttp://www.myspac
 e.com/dreadtoneinternational\n\nRead more here: http://www.dubmissions
 f.com/DRISRAEL2009.html\n\nFor more information visit https://trueskoo
 l.com/events/dub-mission-presents-dr-israel
DTSTART;TZID=America/Los_Angeles:20090524T210000
DTEND;TZID=America/Los_Angeles:20090525T020000
CATEGORIES:dancehall, dub, dubstep, reggae, roots, live, music, sound,
  system, djs
LOCATION:Elbo Room
WEBSITE:http://www.elbo.com
URL:http://www.elbo.com
CONTACT:415-552-7788
ORGANIZER;CN="DJ SEP":https://trueskool.com/profile/DJSEP
ATTACH;FMTTYPE="image/jpeg":http://storage.ning.com/topology/rest/1.0/
 file/get/2247858888?profile=original
ATTENDEE;ROLE=REQ-PARTICIPANT;PARTSTAT=ACCEPTED;RSVP=TRUE;CN="DJ SEP":
 https://trueskool.com/profile/DJSEP
END:VEVENT
END:VCALENDAR
