BEGIN:VCALENDAR
PRODID:NingEventWidget-v1
VERSION:2.0
METHOD:PUBLISH
BEGIN:VTIMEZONE
TZID:America/Los_Angeles
X-LIC-LOCATION:America/Los_Angeles
BEGIN:DAYLIGHT
TZOFFSETFROM:-0800
TZOFFSETTO:-0700
TZNAME:PDT
DTSTART:19700308T020000
RRULE:FREQ=YEARLY;BYMONTH=3;BYDAY=2SU
END:DAYLIGHT
BEGIN:STANDARD
TZOFFSETFROM:-0700
TZOFFSETTO:-0800
TZNAME:PST
DTSTART:19701101T020000
RRULE:FREQ=YEARLY;BYMONTH=11;BYDAY=1SU
END:STANDARD
END:VTIMEZONE
BEGIN:VEVENT
UID:1464587:Event:125412
DTSTAMP:20260421T065949Z
SUMMARY:DUB MISSION - Every Sunday at Elbo Room
DESCRIPTION:Now 16 years strong, DUB MISSION is one of the longest-run
 ning dub & reggae parties in the U.S., and the world. A weekly Sunday 
 night party at Elbo Room in the Mission District of San Francisco, Dub
  Mission presents cutting-edge dub, dubstep, roots reggae, and danceha
 ll, and has featured artists from all over the world, including Adrian
  Sherwood & the ON-U Sound System, Mad Professor & the Ariwa Sound Sys
 tem, the Scientist, Mungo's Hi Fi with Soom T, ZionÂ \nTrain, Twilight
  Circus Dub Sound System, Turntables on the Hudson, and many others. Â
  \nwww.dubmission.com @djsepdubmission www.facebook.com/DubMissionSF w
 ww.youtube.com/dubmission www.reverbnation.com/djsep www.soundcloud.co
 m/djsep\nSunday, December 30, 2012Â \nDUB MISSIONÂ presents\nDJ SEPÂ p
 lus special guestsÂ ROBERT RANKINâ€™ &Â Â SPLIFF SKANKIN' (Massive Sou
 nd Intâ€™l/KKUP/KPFA/KFJC)\nat Elbo Room -Â Â Free before 9:30 / $6 af
 ter\nhttp://soundcloud.com/dj-robert-rankin\nwww.kpfa.org/reggae-expre
 ss\nÂ \nÂ \nÂ \nSunday, January 6, 2013\nDUB MISSION presents DJ SEP, 
 VINNIE ESPARZA and special guest MEXICAN DUBWISER (L.A./Monterrey, Mex
 ico)\n9 pm to 2 amÂ  - Free before 9:30 / $6 after\n\nSunday, January 
 13, 2013Â \nDUB MISSION presents an all-residents night! with DJ SEP, 
 LUDICHRIS and MANEESH the TWISTER\n9 pm to 2 amÂ  - Free before 9:30 /
  $6 after\nÂ \nÂ \nSunday, January 20, 2013Â  Dub Mission presents a B
 ay Area Exclusive show featuring two of NY's finest producers:  NICKOD
 EMUS (Turntables) meets THE SPY FROM CAIRO (aka ZEB) (live set on oud 
 and electronics!) (Turntables on the Hudson/Wonderwheel Recordings/Irm
 a/Esl Music/NY)\nPerforming songs from their newest releases:\nMoon Pe
 ople, Arabadub and Turntables on las Ramblas Compilation\nplus DJ SEP 
 9 pm to 2 am - $8 advance / $11 door  Limited adv. tix: www.brownpaper
 tickets.com & www.jambasetickets.com\nÂ \nÂ \nSunday, January 27, 2013
 Â \nDUB MISSION presents DJ SEP, J BOOGIE (Dubtronic Science/Om) and s
 pecial guest DJ ALARM (TLV/Ha'Connection/Israel)\n9 pm to 2 amÂ  - Fre
 e before 9:30 / $6 after\n\nFor more information visit https://truesko
 ol.com/events/dub-mission-every-sunday-at-elbo-room
DTSTART;TZID=America/Los_Angeles:20130127T210000
DTEND;TZID=America/Los_Angeles:20130128T020000
CATEGORIES:dub, dubstep, dancehall, reggae, dance, djs, san, francisco
 , nightlife, clubs, soundsystem, live, music, roots, bay, area, dj, se
 p, vinnie, esparza, j, boogie
LOCATION:Elbo Room
WEBSITE:http://www.dubmission.com
URL:http://www.dubmission.com
CONTACT:4155527788
ORGANIZER;CN="DJ SEP":https://trueskool.com/profile/DJSEP
ATTACH;FMTTYPE="image/jpeg":http://storage.ning.com/topology/rest/1.0/
 file/get/2247918960?profile=original
ATTENDEE;ROLE=REQ-PARTICIPANT;PARTSTAT=ACCEPTED;RSVP=TRUE;CN="DJ SEP":
 https://trueskool.com/profile/DJSEP
END:VEVENT
END:VCALENDAR
