BEGIN:VCALENDAR
PRODID:NingEventWidget-v1
VERSION:2.0
METHOD:PUBLISH
BEGIN:VTIMEZONE
TZID:America/Los_Angeles
X-LIC-LOCATION:America/Los_Angeles
BEGIN:DAYLIGHT
TZOFFSETFROM:-0800
TZOFFSETTO:-0700
TZNAME:PDT
DTSTART:19700308T020000
RRULE:FREQ=YEARLY;BYMONTH=3;BYDAY=2SU
END:DAYLIGHT
BEGIN:STANDARD
TZOFFSETFROM:-0700
TZOFFSETTO:-0800
TZNAME:PST
DTSTART:19701101T020000
RRULE:FREQ=YEARLY;BYMONTH=11;BYDAY=1SU
END:STANDARD
END:VTIMEZONE
BEGIN:VEVENT
UID:1464587:Event:290333
DTSTAMP:20260421T022111Z
SUMMARY:VIBES feat. DRUID CLOAK
DESCRIPTION:VIBES feat. DRUID CLOAK (Symbols- OH)\nBENITO\nJOSH MACE\n
 plus VIBES CREW\nâ˜¯ â˜¯ â˜¯ â˜¯ â˜¯ â˜¯ â˜¯ â˜¯ â˜¯ â˜¯ â˜¯ â˜¯ â˜¯ â
 ˜¯ â˜¯ â˜¯ â˜¯ â˜¯ â˜¯\n21+\nFREE ALL NIGHT\nBEAT SCENE//UK BASS//TRIP
  HOP//FUTURE GARAGE//DOWNTEMPO\n\nFor more information visit https://t
 rueskool.com/events/druid-cloak
DTSTART;TZID=America/Los_Angeles:20140112T220000
DTEND;TZID=America/Los_Angeles:20140113T020000
CATEGORIES:"san francisco", "bay area"
LOCATION:Slate Bar, San Francisco, CA
WEBSITE:https://www.facebook.com/events/520047104759454/
URL:https://www.facebook.com/events/520047104759454/
CONTACT:
ORGANIZER;CN="Vibes Worldwide":https://trueskool.com/profile/VibesWorl
 dwide
ATTACH;FMTTYPE="image/jpeg":http://storage.ning.com/topology/rest/1.0/
 file/get/2247955612?profile=original
ATTENDEE;ROLE=REQ-PARTICIPANT;PARTSTAT=ACCEPTED;RSVP=TRUE;CN="Vibes Wo
 rldwide":https://trueskool.com/profile/VibesWorldwide
END:VEVENT
END:VCALENDAR
