BEGIN:VCALENDAR
PRODID:NingEventWidget-v1
VERSION:2.0
METHOD:PUBLISH
BEGIN:VTIMEZONE
TZID:America/Los_Angeles
X-LIC-LOCATION:America/Los_Angeles
BEGIN:DAYLIGHT
TZOFFSETFROM:-0800
TZOFFSETTO:-0700
TZNAME:PDT
DTSTART:19700308T020000
RRULE:FREQ=YEARLY;BYMONTH=3;BYDAY=2SU
END:DAYLIGHT
BEGIN:STANDARD
TZOFFSETFROM:-0700
TZOFFSETTO:-0800
TZNAME:PST
DTSTART:19701101T020000
RRULE:FREQ=YEARLY;BYMONTH=11;BYDAY=1SU
END:STANDARD
END:VTIMEZONE
BEGIN:VEVENT
UID:1464587:Event:831100
DTSTAMP:20260421T184931Z
SUMMARY:Dread Mar-I
DESCRIPTION:\r\nWEDNESDAY, AUG 21 \r\nDread Mar-I\r\n\r\nwith special 
 guest Bayonics\r\n\r\n@ San Jose Civic, San Jose, CA \r\n7:00pm \r\n>>
  BUY TICKETS\r\n\r\n\r\n\n\nFor more information visit https://truesko
 ol.com/events/dread-mar-i
DTSTART;TZID=America/Los_Angeles:20240821T190000
DTEND;TZID=America/Los_Angeles:20240821T230000
CATEGORIES:"bay area", "san jose"
LOCATION:San Jose Civic, San Jose, CA
WEBSITE:https://www.ticketmaster.com/dread-mar-i-san-jose-california-0
 8-21-2024/event/1C0060C5B0AA802B?utm_campaign=Adv-2908443&amp;amp;utm_
 source=true+skool&amp;amp;utm_medium=other_med_ln_digital
URL:https://www.ticketmaster.com/dread-mar-i-san-jose-california-08-21
 -2024/event/1C0060C5B0AA802B?utm_campaign=Adv-2908443&amp;amp;utm_sour
 ce=true+skool&amp;amp;utm_medium=other_med_ln_digital
CONTACT:
ORGANIZER:Live Nation
ATTACH;FMTTYPE="image/jpeg":https://storage.ning.com/topology/rest/1.0
 /file/get/12744725863?profile=original
ATTENDEE;ROLE=REQ-PARTICIPANT;PARTSTAT=ACCEPTED;RSVP=TRUE;CN="Editor's
  Pick":https://trueskool.com/profile/RentheVinylArchaeologist
END:VEVENT
END:VCALENDAR
