BEGIN:VCALENDAR
PRODID:NingEventWidget-v1
VERSION:2.0
METHOD:PUBLISH
BEGIN:VTIMEZONE
TZID:America/Los_Angeles
X-LIC-LOCATION:America/Los_Angeles
BEGIN:DAYLIGHT
TZOFFSETFROM:-0800
TZOFFSETTO:-0700
TZNAME:PDT
DTSTART:19700308T020000
RRULE:FREQ=YEARLY;BYMONTH=3;BYDAY=2SU
END:DAYLIGHT
BEGIN:STANDARD
TZOFFSETFROM:-0700
TZOFFSETTO:-0800
TZNAME:PST
DTSTART:19701101T020000
RRULE:FREQ=YEARLY;BYMONTH=11;BYDAY=1SU
END:STANDARD
END:VTIMEZONE
BEGIN:VEVENT
UID:1464587:Event:656623
DTSTAMP:20260422T043427Z
SUMMARY:Drake vs Kanye
DESCRIPTION:\n\n\nDrake vs. Kanye (Tribute Party)\n\n\n\n\nNo Remixes,
  No Mashups, All Originals\n9pm // 21+A controvsy & Lights & Music 
 Collective Event\n\n\n\nFor more information visit https://trueskool.
 com/events/drake-vs-kanye
DTSTART;TZID=America/Los_Angeles:20161209T180000
DTEND;TZID=America/Los_Angeles:20161209T190000
CATEGORIES:"san francisco", "bay area"
LOCATION:Mezzanine, San Francisco
WEBSITE:https://drakevskanyeatmezzanine.eventbrite.com/?aff=truskool
URL:https://drakevskanyeatmezzanine.eventbrite.com/?aff=truskool
CONTACT:4156258880
ORGANIZER;CN=MezzanineSF:https://trueskool.com/profile/MezzanineSF
ATTACH;FMTTYPE="image/jpeg":http://storage.ning.com/topology/rest/1.0/
 file/get/2247992924?profile=original
ATTENDEE;ROLE=REQ-PARTICIPANT;PARTSTAT=ACCEPTED;RSVP=TRUE;CN=Mezzanine
 SF:https://trueskool.com/profile/MezzanineSF
END:VEVENT
END:VCALENDAR
