BEGIN:VCALENDAR
PRODID:NingEventWidget-v1
VERSION:2.0
METHOD:PUBLISH
BEGIN:VTIMEZONE
TZID:America/Los_Angeles
X-LIC-LOCATION:America/Los_Angeles
BEGIN:DAYLIGHT
TZOFFSETFROM:-0800
TZOFFSETTO:-0700
TZNAME:PDT
DTSTART:19700308T020000
RRULE:FREQ=YEARLY;BYMONTH=3;BYDAY=2SU
END:DAYLIGHT
BEGIN:STANDARD
TZOFFSETFROM:-0700
TZOFFSETTO:-0800
TZNAME:PST
DTSTART:19701101T020000
RRULE:FREQ=YEARLY;BYMONTH=11;BYDAY=1SU
END:STANDARD
END:VTIMEZONE
BEGIN:VEVENT
UID:1464587:Event:53191
DTSTAMP:20260421T050550Z
SUMMARY:Drake
DESCRIPTION:Drake\nThe Warfield\nWednesday May 12th\n\n21+\ndoors at 8
 pm\ntickets $37 - $60\nBuy Tickets:\nhttp://www.ticketmaster.com/event
 /1C004468AE003E19\n\n\n\nFor more information visit https://trueskool.
 com/events/drake-1
DTSTART;TZID=America/Los_Angeles:20100512T200000
DTEND;TZID=America/Los_Angeles:20100513T000000
CATEGORIES:hip, hop
LOCATION:The Warfield, San Francisco, CA
WEBSITE:http://www.ticketmaster.com/event/1C004468AE003E19
URL:http://www.ticketmaster.com/event/1C004468AE003E19
CONTACT:
ORGANIZER;CN="Editor's Pick":https://trueskool.com/profile/RentheVinyl
 Archaeologist
ATTACH;FMTTYPE="image/jpeg":http://storage.ning.com/topology/rest/1.0/
 file/get/2247876151?profile=original
ATTENDEE;ROLE=REQ-PARTICIPANT;PARTSTAT=ACCEPTED;RSVP=TRUE;CN="caramel 
 queen":https://trueskool.com/profile/caramelqueen
ATTENDEE;ROLE=REQ-PARTICIPANT;PARTSTAT=ACCEPTED;RSVP=TRUE;CN="Editor's
  Pick":https://trueskool.com/profile/RentheVinylArchaeologist
END:VEVENT
END:VCALENDAR
