BEGIN:VCALENDAR
PRODID:NingEventWidget-v1
VERSION:2.0
METHOD:PUBLISH
BEGIN:VTIMEZONE
TZID:America/Los_Angeles
X-LIC-LOCATION:America/Los_Angeles
BEGIN:DAYLIGHT
TZOFFSETFROM:-0800
TZOFFSETTO:-0700
TZNAME:PDT
DTSTART:19700308T020000
RRULE:FREQ=YEARLY;BYMONTH=3;BYDAY=2SU
END:DAYLIGHT
BEGIN:STANDARD
TZOFFSETFROM:-0700
TZOFFSETTO:-0800
TZNAME:PST
DTSTART:19701101T020000
RRULE:FREQ=YEARLY;BYMONTH=11;BYDAY=1SU
END:STANDARD
END:VTIMEZONE
BEGIN:VEVENT
UID:1464587:Event:672464
DTSTAMP:20260421T141228Z
SUMMARY:Dr. Octagon
DESCRIPTION:ENTER TO WIN A PAIR OF TICKETS. WINNER WILL BE DRAWN RANDO
 MLY AND ANNOUNCED 2 DAYS PRIOR TO EVENT.\r\n\r\nSunday, February 18\r\
 nDr.Â Octagon\r\n\r\nThe Fillmore, San Francisco\r\nDoorsÂ 7:00 p.m.Â 
 // ShowÂ 8:00 p.m.\r\nTickets are $35.00 plus applicable charges.\r\nÂ
  >> BUY TICKETS\r\n\r\n\r\n\n\nFor more information visit https://true
 skool.com/events/dr-octagon
DTSTART;TZID=America/Los_Angeles:20180218T190000
DTEND;TZID=America/Los_Angeles:20180218T230000
CATEGORIES:"bay area", "san francisco"
LOCATION:The Fillmore, San Francisco
WEBSITE:http://www.ticketmaster.com/event/1C005381E2468CDA
URL:http://www.ticketmaster.com/event/1C005381E2468CDA
CONTACT:
ORGANIZER:Live Nation
ATTACH;FMTTYPE="image/jpeg":http://storage.ning.com/topology/rest/1.0/
 file/get/2248004525?profile=original
ATTENDEE;ROLE=REQ-PARTICIPANT;PARTSTAT=ACCEPTED;RSVP=TRUE;CN="Elisa Bj
 eldanes":https://trueskool.com/profile/ElisaBjeldanes
ATTENDEE;ROLE=REQ-PARTICIPANT;PARTSTAT=ACCEPTED;RSVP=TRUE;CN=Melissa:h
 ttps://trueskool.com/profile/Melissa
ATTENDEE;ROLE=REQ-PARTICIPANT;PARTSTAT=ACCEPTED;RSVP=TRUE;CN="Editor's
  Pick":https://trueskool.com/profile/RentheVinylArchaeologist
END:VEVENT
END:VCALENDAR
