BEGIN:VCALENDAR
PRODID:NingEventWidget-v1
VERSION:2.0
METHOD:PUBLISH
BEGIN:VTIMEZONE
TZID:America/Los_Angeles
X-LIC-LOCATION:America/Los_Angeles
BEGIN:DAYLIGHT
TZOFFSETFROM:-0800
TZOFFSETTO:-0700
TZNAME:PDT
DTSTART:19700308T020000
RRULE:FREQ=YEARLY;BYMONTH=3;BYDAY=2SU
END:DAYLIGHT
BEGIN:STANDARD
TZOFFSETFROM:-0700
TZOFFSETTO:-0800
TZNAME:PST
DTSTART:19701101T020000
RRULE:FREQ=YEARLY;BYMONTH=11;BYDAY=1SU
END:STANDARD
END:VTIMEZONE
BEGIN:VEVENT
UID:1464587:Event:68574
DTSTAMP:20260420T112901Z
SUMMARY:Down the Rabbit Hole Release Party/Sweat Equity Tour
DESCRIPTION:Down the Rabbit Hole Release and Hella Halloween Party\n\n
 A night of Indie Rock, Hip Hop, and FUN!!!\n\nCheck flyer for details 
 and Lineup\n\nemail finlessbrown@gmail.com for any additional\n\n\nOff
 icial Site: http://www.mistermaddhatter.com\n\nFor more information vi
 sit https://trueskool.com/events/down-the-rabbit-hole-release
DTSTART;TZID=America/Los_Angeles:20101029T220000
DTEND;TZID=America/Los_Angeles:20101030T020000
CATEGORIES:bay, area
LOCATION:Rock it Room, San Francisco, CA
WEBSITE:http://www.mistermaddhatter.com
URL:http://www.mistermaddhatter.com
CONTACT:
ORGANIZER;CN="Paulie Rhyme":https://trueskool.com/profile/PaulieRhyme
ATTACH;FMTTYPE="image/jpeg":http://storage.ning.com/topology/rest/1.0/
 file/get/2247885090?profile=original
ATTENDEE;ROLE=REQ-PARTICIPANT;PARTSTAT=ACCEPTED;RSVP=TRUE;CN="Paulie R
 hyme":https://trueskool.com/profile/PaulieRhyme
END:VEVENT
END:VCALENDAR
