BEGIN:VCALENDAR
PRODID:NingEventWidget-v1
VERSION:2.0
METHOD:PUBLISH
BEGIN:VTIMEZONE
TZID:America/Los_Angeles
X-LIC-LOCATION:America/Los_Angeles
BEGIN:DAYLIGHT
TZOFFSETFROM:-0800
TZOFFSETTO:-0700
TZNAME:PDT
DTSTART:19700308T020000
RRULE:FREQ=YEARLY;BYMONTH=3;BYDAY=2SU
END:DAYLIGHT
BEGIN:STANDARD
TZOFFSETFROM:-0700
TZOFFSETTO:-0800
TZNAME:PST
DTSTART:19701101T020000
RRULE:FREQ=YEARLY;BYMONTH=11;BYDAY=1SU
END:STANDARD
END:VTIMEZONE
BEGIN:VEVENT
UID:1464587:Event:26209
DTSTAMP:20260423T144728Z
SUMMARY:Double Dragon
DESCRIPTION:DJs BMoss and Emily wind down the weekend with a wide arra
 y of select indie, punk, brit-pop, soul, and hip-hop cuts.\n\nEvery Su
 nday is Industry Night\n\n1/2 off drinks 9pm until close to anyone in 
 the bar & restaurant industry w/ proof of employment\n\nDoors 4pm-12am
  / Music 8pm / 21 & up w/ID\n\nFor more information visit https://true
 skool.com/events/double-dragon-2
DTSTART;TZID=America/Los_Angeles:20090208T200000
DTEND;TZID=America/Los_Angeles:20090209T000000
CATEGORIES:djs
LOCATION:Madrone Lounge
WEBSITE:http://www.madronelounge.com
URL:http://www.madronelounge.com
CONTACT:
ORGANIZER;CN=Nobody:https://trueskool.com/profile/MadroneLounge
ATTACH;FMTTYPE="image/jpeg":http://storage.ning.com/topology/rest/1.0/
 file/get/2247852975?profile=original
ATTENDEE;ROLE=REQ-PARTICIPANT;PARTSTAT=ACCEPTED;RSVP=TRUE;CN=Nobody:ht
 tps://trueskool.com/profile/MadroneLounge
END:VEVENT
END:VCALENDAR
