BEGIN:VCALENDAR
PRODID:NingEventWidget-v1
VERSION:2.0
METHOD:PUBLISH
BEGIN:VTIMEZONE
TZID:America/Los_Angeles
X-LIC-LOCATION:America/Los_Angeles
BEGIN:DAYLIGHT
TZOFFSETFROM:-0800
TZOFFSETTO:-0700
TZNAME:PDT
DTSTART:19700308T020000
RRULE:FREQ=YEARLY;BYMONTH=3;BYDAY=2SU
END:DAYLIGHT
BEGIN:STANDARD
TZOFFSETFROM:-0700
TZOFFSETTO:-0800
TZNAME:PST
DTSTART:19701101T020000
RRULE:FREQ=YEARLY;BYMONTH=11;BYDAY=1SU
END:STANDARD
END:VTIMEZONE
BEGIN:VEVENT
UID:1464587:Event:666647
DTSTAMP:20260421T112818Z
SUMMARY:DOUBLE CUP (A Benefit for the Victims of Hurricane Harvey)
DESCRIPTION:\r\nWEDNESDAY, SEPT 6 Double Cup A Benefit for the Victims
  of Hurricane Harvey\r\nMultiple Rooms of Sound featuring: Mr. Carmack
 , D-Sharp, Mind Motion, Apollo, Scotty Fox, Shortkut, DJ Theory, Boogi
 e Brown, Mackswell, Ren the Vinyl Archaeologist, Mr. E, Cutso, Umami, 
 Platurn, Wonway, Prince Aries, Malachi, Royce, Enki and many more...\r
 \n@ 1015, San Francisco 100% of the proceeds are being donated >> BUY 
 TICKETS / DONATE\n\nFor more information visit https://trueskool.com/e
 vents/double-cup-a-benefit-for-the-victims-of-hurricane-harvey
DTSTART;TZID=America/Los_Angeles:20170906T210000
DTEND;TZID=America/Los_Angeles:20170906T230000
CATEGORIES:"bay area", "san francisco"
LOCATION:1015, San Francisco
WEBSITE:https://www.eventbrite.com/e/double-cup-a-fundraiser-for-houst
 on-at-1015-folsom-tickets-37501352555?aff=site
URL:https://www.eventbrite.com/e/double-cup-a-fundraiser-for-houston-a
 t-1015-folsom-tickets-37501352555?aff=site
CONTACT:
ORGANIZER:The Bay Area
ATTACH;FMTTYPE="image/jpeg":http://storage.ning.com/topology/rest/1.0/
 file/get/2247999758?profile=original
ATTENDEE;ROLE=REQ-PARTICIPANT;PARTSTAT=ACCEPTED;RSVP=TRUE;CN="Editor's
  Pick":https://trueskool.com/profile/RentheVinylArchaeologist
END:VEVENT
END:VCALENDAR
