BEGIN:VCALENDAR
PRODID:NingEventWidget-v1
VERSION:2.0
METHOD:PUBLISH
BEGIN:VTIMEZONE
TZID:America/Los_Angeles
X-LIC-LOCATION:America/Los_Angeles
BEGIN:DAYLIGHT
TZOFFSETFROM:-0800
TZOFFSETTO:-0700
TZNAME:PDT
DTSTART:19700308T020000
RRULE:FREQ=YEARLY;BYMONTH=3;BYDAY=2SU
END:DAYLIGHT
BEGIN:STANDARD
TZOFFSETFROM:-0700
TZOFFSETTO:-0800
TZNAME:PST
DTSTART:19701101T020000
RRULE:FREQ=YEARLY;BYMONTH=11;BYDAY=1SU
END:STANDARD
END:VTIMEZONE
BEGIN:VEVENT
UID:1464587:Event:39339
DTSTAMP:20260421T190113Z
SUMMARY:\"Don't Sweat the Technique\" Ode to the Spraycan
DESCRIPTION:\"Don't Sweat the Technique: Ode to the Spraycan\" present
 ed by 1:AM SF Gallery, Estria Invitational Graffiti Battle and Montana
  North America\nSeptember 11 - October 9, 2009\n\n1:AM SF gallery and 
 Estria are committed to providing a positive outlet for people who wan
 t to enrich their lives creatively through street art. True to their d
 edication, they, along with Montana Colors, present \"Don't Sweat the 
 Technique: Ode to the Spraycan\", an art gallery exhibition celebratin
 g aerosol art. This groundbreaking collaboration is unprecedented and 
 gives fans and those curious about urban arts a window into the cultur
 e on a national level.\n\nFor the past five months, Estria Invitationa
 l Graffiti Battle (EIGB) has been holding competitions across the nati
 on searching for someone to reign supreme with their aerosol skills. T
 he finals are here in the Bay Area. Before concluding this journey, Es
 tria will be kicking off the finals in style and invited the talented 
 participants to showcase their impressive and innovative art at 1:AM g
 allery. They will be paying tribute to their choice of art tool, the s
 praycan. The killer line up includes:\n\nCalifornia: Neon, Bounce, Che
 z, Vogue, Eon 75, Germz, Vyal, Refa, Natrl\n\nChicago: Rome, Tsel, Chu
 cho, Melon, Debl, Like\n\nHawai'i: Katch, Estria, Eukarezt, Ckaweeks, 
 Prime, Bam\n\nNew York: Wane One, Doves, Cern, Queen Andrea, Cekis\n\n
 Whether you are a newbie or veteran to street art, this is the show to
  educate yourself in the art of the spraycan. The heavy hitters are he
 re to add some color to your walls and flavor to your sketchbooks.\n\n
 Opening reception is on September 11th from 7 - 10pm. DJ Don Kainoa, S
 pinnerty, and Bozak will be dropping the beats. This is a 21+ event.\n
 Exhibition will run through October 9th. Don't forget to mark your cal
 endars for the EIGB finals, as part of the Living Word Festival, on Oc
 tober 10th in Oakland!\n\nhttp://www.EstriaBattle.com\n\n1:AM SF Galle
 ry\n1000 Howard St., San Francisco, CA 94127\n\nFor more information v
 isit https://trueskool.com/events/dont-sweat-the-technique-ode
DTSTART;TZID=America/Los_Angeles:20090911T180000
DTEND;TZID=America/Los_Angeles:20090911T220000
CATEGORIES:hip, hop, graffiti, gallery
LOCATION:1:AM SF Gallery, San Francisco, CA
WEBSITE:http://www.1amsf.com
URL:http://www.1amsf.com
CONTACT:(415) 861-5089
ORGANIZER;CN=Bam:https://trueskool.com/profile/Bam
ATTACH;FMTTYPE="image/jpeg":http://storage.ning.com/topology/rest/1.0/
 file/get/2247866921?profile=original
ATTENDEE;ROLE=REQ-PARTICIPANT;PARTSTAT=ACCEPTED;RSVP=TRUE;CN=Bam:https
 ://trueskool.com/profile/Bam
END:VEVENT
END:VCALENDAR
