BEGIN:VCALENDAR
PRODID:NingEventWidget-v1
VERSION:2.0
METHOD:PUBLISH
BEGIN:VTIMEZONE
TZID:America/Los_Angeles
X-LIC-LOCATION:America/Los_Angeles
BEGIN:DAYLIGHT
TZOFFSETFROM:-0800
TZOFFSETTO:-0700
TZNAME:PDT
DTSTART:19700308T020000
RRULE:FREQ=YEARLY;BYMONTH=3;BYDAY=2SU
END:DAYLIGHT
BEGIN:STANDARD
TZOFFSETFROM:-0700
TZOFFSETTO:-0800
TZNAME:PST
DTSTART:19701101T020000
RRULE:FREQ=YEARLY;BYMONTH=11;BYDAY=1SU
END:STANDARD
END:VTIMEZONE
BEGIN:VEVENT
UID:1464587:Event:31191
DTSTAMP:20260421T001532Z
SUMMARY:Don Carlos & Dub Vision
DESCRIPTION:Don Carlos & Dub Vision\nReggae Angels\n\nThe Independent\
 n628 Divisadero (btwn Grove & Hayes)\nSan Francisco CA 94117\ndoors 8:
 30PM\nshow 9:00PM\n\nFor more information visit https://trueskool.com/
 events/don-carlos-dub-vision
DTSTART;TZID=America/Los_Angeles:20090426T203000
DTEND;TZID=America/Los_Angeles:20090427T000000
CATEGORIES:reggae, dancehall
LOCATION:Independent, San Francisco, CA
WEBSITE:http://www.ticketweb.com/snl/CalendarListings.action?venueId=t
 heindependentsf&month=3&year=2009
URL:http://www.ticketweb.com/snl/CalendarListings.action?venueId=thein
 dependentsf&month=3&year=2009
CONTACT:
ORGANIZER:Another Planet Ent.
ATTACH;FMTTYPE="image/jpeg":http://storage.ning.com/topology/rest/1.0/
 file/get/2247856365?profile=original
ATTENDEE;ROLE=REQ-PARTICIPANT;PARTSTAT=ACCEPTED;RSVP=TRUE;CN="Editor's
  Pick":https://trueskool.com/profile/RentheVinylArchaeologist
END:VEVENT
END:VCALENDAR
