BEGIN:VCALENDAR
PRODID:NingEventWidget-v1
VERSION:2.0
METHOD:PUBLISH
BEGIN:VTIMEZONE
TZID:America/Los_Angeles
X-LIC-LOCATION:America/Los_Angeles
BEGIN:DAYLIGHT
TZOFFSETFROM:-0800
TZOFFSETTO:-0700
TZNAME:PDT
DTSTART:19700308T020000
RRULE:FREQ=YEARLY;BYMONTH=3;BYDAY=2SU
END:DAYLIGHT
BEGIN:STANDARD
TZOFFSETFROM:-0700
TZOFFSETTO:-0800
TZNAME:PST
DTSTART:19701101T020000
RRULE:FREQ=YEARLY;BYMONTH=11;BYDAY=1SU
END:STANDARD
END:VTIMEZONE
BEGIN:VEVENT
UID:1464587:Event:680196
DTSTAMP:20260421T094549Z
SUMMARY:Dom Kennedy
DESCRIPTION:ENTER TO WIN A PAIR OF TICKETS. WINNER WILL BE DRAWN RANDO
 MLY AND ANNOUNCED 2 DAYS PRIOR TO EVENT.   MONDAY, NOV 26 \r\nDOM KENN
 EDY\r\nwith Cozz, Jay 305, and Warm Brew\r\n\r\nThe Regency Ballroom, 
 San Francisco, CA 8:00 PM\r\n>> BUY TICKETS\r\n\n\nFor more informatio
 n visit https://trueskool.com/events/dom-kennedy-4
DTSTART;TZID=America/Los_Angeles:20181126T200000
DTEND;TZID=America/Los_Angeles:20181126T230000
CATEGORIES:"bay area", "san francisco"
LOCATION:Regency Ballroom, SF
WEBSITE:http://www.axs.com/events/362085/dom-kennedy-tickets?skin=gold
 envoice
URL:http://www.axs.com/events/362085/dom-kennedy-tickets?skin=goldenvo
 ice
CONTACT:
ORGANIZER:Goldenvoice
ATTACH;FMTTYPE="image/jpeg":http://storage.ning.com/topology/rest/1.0/
 file/get/136058202?profile=original
ATTENDEE;ROLE=REQ-PARTICIPANT;PARTSTAT=ACCEPTED;RSVP=TRUE;CN="Ren the 
 Vinyl Archaeologist":https://trueskool.com/profile/xh51jvilojur
END:VEVENT
END:VCALENDAR
