BEGIN:VCALENDAR
PRODID:NingEventWidget-v1
VERSION:2.0
METHOD:PUBLISH
BEGIN:VTIMEZONE
TZID:America/Los_Angeles
X-LIC-LOCATION:America/Los_Angeles
BEGIN:DAYLIGHT
TZOFFSETFROM:-0800
TZOFFSETTO:-0700
TZNAME:PDT
DTSTART:19700308T020000
RRULE:FREQ=YEARLY;BYMONTH=3;BYDAY=2SU
END:DAYLIGHT
BEGIN:STANDARD
TZOFFSETFROM:-0700
TZOFFSETTO:-0800
TZNAME:PST
DTSTART:19701101T020000
RRULE:FREQ=YEARLY;BYMONTH=11;BYDAY=1SU
END:STANDARD
END:VTIMEZONE
BEGIN:VEVENT
UID:1464587:Event:38773
DTSTAMP:20260421T093558Z
SUMMARY:Doin it in the Park '09 feat. Shortkut, Apollo, Sake 1, Mr. E,
  TD Camp, Daddy Rolo...
DESCRIPTION:\n\nFor more information visit https://trueskool.com/event
 s/doin-it-in-the-park-09-feat
DTSTART;TZID=America/Los_Angeles:20090906T220000
DTEND;TZID=America/Los_Angeles:20090907T020000
CATEGORIES:hip, hop, dancehall, reggae, soul, "r&b", old, school
LOCATION:Elk Glen Cove (Golden Gate Park), San Francisco
WEBSITE:
URL:
CONTACT:
ORGANIZER:Local 1200, Triple Threat DJs & Papalote
ATTACH;FMTTYPE="image/jpeg":http://storage.ning.com/topology/rest/1.0/
 file/get/2247860259?profile=original
ATTENDEE;ROLE=REQ-PARTICIPANT;PARTSTAT=ACCEPTED;RSVP=TRUE;CN="DJ Apoll
 o":https://trueskool.com/profile/DJApollo
ATTENDEE;ROLE=REQ-PARTICIPANT;PARTSTAT=ACCEPTED;RSVP=TRUE;CN="Ren the 
 Vinyl Archaeologist":https://trueskool.com/profile/xh51jvilojur
END:VEVENT
END:VCALENDAR
