BEGIN:VCALENDAR
PRODID:NingEventWidget-v1
VERSION:2.0
METHOD:PUBLISH
BEGIN:VTIMEZONE
TZID:America/Los_Angeles
X-LIC-LOCATION:America/Los_Angeles
BEGIN:DAYLIGHT
TZOFFSETFROM:-0800
TZOFFSETTO:-0700
TZNAME:PDT
DTSTART:19700308T020000
RRULE:FREQ=YEARLY;BYMONTH=3;BYDAY=2SU
END:DAYLIGHT
BEGIN:STANDARD
TZOFFSETFROM:-0700
TZOFFSETTO:-0800
TZNAME:PST
DTSTART:19701101T020000
RRULE:FREQ=YEARLY;BYMONTH=11;BYDAY=1SU
END:STANDARD
END:VTIMEZONE
BEGIN:VEVENT
UID:1464587:Event:54476
DTSTAMP:20260420T213147Z
SUMMARY:Documentary film about Hip-Hop: Beyond Beats and Rhymes
DESCRIPTION:Hip-hop: Beyond Beats and RhymesDIRECTED AND PRODUCED BY B
 yron HurtFilmmaker Byron Hurt Takes In-Depth Look at Manhood, Sexism a
 nd Homophobia in Rap Music and Hip-Hop Culture. Featuring interviews W
 ith Mos Def, Chuck D, Busta Rhymes and Russell Simmons. \"Hip Hop: Bey
 ond Beats and Rhymes\" also reveals the complex intersection of cultur
 e, commerce and gender through on-the-street interviews with aspiring 
 rappers and fans at hip-hop events throughout the country. The result 
 is an important, engaging, inside look at one of the most influential 
 art forms of our time.Join us for this riveting documentary!Thurs, Apr
 il 296:30 Reception7:00 Film Showing8:30 Community DiscussionWildwood 
 Auditorium301 Wildwood Ave.Piedmont, CA 94611(street parking)The Appre
 ciating Diversity Film Series is sponsored by the Piedmont Appreciatin
 g Diversity Committee, the Piedmont League of Women Voters, and Divers
 ityWorksFor more information and directions to Wildwood Auditorium, co
 ntact Julie Chang:Julie@diversityfilmseries.org or (510) 835-9227About
  the film: http://www.pbs.org/independentlens/hiphop/film.htm and dive
 rsityfilmseries.\n\nFor more information visit https://trueskool.com/e
 vents/documentary-film-about-hiphop
DTSTART;TZID=America/Los_Angeles:20100429T190000
DTEND;TZID=America/Los_Angeles:20100429T210000
CATEGORIES:film, hip, hop
LOCATION:Wildwood School Auditorium, Piedmont, CA
WEBSITE:http://diversityfilmseries.org
URL:http://diversityfilmseries.org
CONTACT:510-835-9227
ORGANIZER:Piedmont Diversity Film Series
ATTACH;FMTTYPE="image/jpeg":
ATTENDEE;ROLE=REQ-PARTICIPANT;PARTSTAT=ACCEPTED;RSVP=TRUE;CN=FullCalen
 dar:https://trueskool.com/profile/FullCalendar
END:VEVENT
END:VCALENDAR
