BEGIN:VCALENDAR
PRODID:NingEventWidget-v1
VERSION:2.0
METHOD:PUBLISH
BEGIN:VTIMEZONE
TZID:America/Los_Angeles
X-LIC-LOCATION:America/Los_Angeles
BEGIN:DAYLIGHT
TZOFFSETFROM:-0800
TZOFFSETTO:-0700
TZNAME:PDT
DTSTART:19700308T020000
RRULE:FREQ=YEARLY;BYMONTH=3;BYDAY=2SU
END:DAYLIGHT
BEGIN:STANDARD
TZOFFSETFROM:-0700
TZOFFSETTO:-0800
TZNAME:PST
DTSTART:19701101T020000
RRULE:FREQ=YEARLY;BYMONTH=11;BYDAY=1SU
END:STANDARD
END:VTIMEZONE
BEGIN:VEVENT
UID:1464587:Event:675949
DTSTAMP:20260421T094551Z
SUMMARY:Doc Savage - Freestyle
DESCRIPTION:Doc Savage is out of the hospital after being admitted for
  severe abdominal pain. It has been a long road for Doc Savage but he 
 wanted to send so much love to all his fans who showed love and suppor
 t through it all.\n\nDoc Savage Freestyle\n\n \n\n\n\n\n\nFor more in
 formation visit https://trueskool.com/events/doc-savage-freestyle
DTSTART;TZID=America/Los_Angeles:20180608T180000
DTEND;TZID=America/Los_Angeles:20180608T190000
CATEGORIES:"waterford, connecticut"
LOCATION:Waterford, Connecticut
WEBSITE:
URL:
CONTACT:
ORGANIZER;CN="LaRay Records":https://trueskool.com/profile/LaRayRecord
 s
ATTACH;FMTTYPE="image/jpeg":http://storage.ning.com/topology/rest/1.0/
 file/get/2068666024?profile=original
ATTENDEE;ROLE=REQ-PARTICIPANT;PARTSTAT=ACCEPTED;RSVP=TRUE;CN="LaRay Re
 cords":https://trueskool.com/profile/LaRayRecords
END:VEVENT
END:VCALENDAR
