BEGIN:VCALENDAR
PRODID:NingEventWidget-v1
VERSION:2.0
METHOD:PUBLISH
BEGIN:VTIMEZONE
TZID:America/Los_Angeles
X-LIC-LOCATION:America/Los_Angeles
BEGIN:DAYLIGHT
TZOFFSETFROM:-0800
TZOFFSETTO:-0700
TZNAME:PDT
DTSTART:19700308T020000
RRULE:FREQ=YEARLY;BYMONTH=3;BYDAY=2SU
END:DAYLIGHT
BEGIN:STANDARD
TZOFFSETFROM:-0700
TZOFFSETTO:-0800
TZNAME:PST
DTSTART:19701101T020000
RRULE:FREQ=YEARLY;BYMONTH=11;BYDAY=1SU
END:STANDARD
END:VTIMEZONE
BEGIN:VEVENT
UID:1464587:Event:41399
DTSTAMP:20260421T094744Z
SUMMARY:DJ Zita & Eve present ALLURE @ Eve Lounge SF ~NEW FIRST FRIDAY
 S~
DESCRIPTION:DJ Zita & Eve present\n~ ALLURE ~\nFri. Nov. 6, 2009\nNew 
 1st Fridays @ Eve Lounge SF\n\nAlluring Soulful HOUSE\n\nFeaturing Res
 ident\nDJ ZITA (Golden Soundscapes)\n\nThis month's special guest:\nMR
 .MENTION (SD)\n\nCelebrating the launch of MADE Jewelry's new LoveHate
  Collection & CD release of DJ Zita's MADE Mix Vol. 3!\nSwag Bag Givea
 ways to 50 Lucky Ladies!\n\nJazz age meets the 21st century. Alluring 
 and elegant. Unpretentious and approachable. These are the words that 
 describe EVE. A brand new lounge south of market San Francisco. Bringi
 ng together music from San Francisco’s finest DJs and a piquant cock
 tail list to delight the senses. Plenty of plush banquette seating sur
 rounds EVE’s curves. Roaring Twenties inspired artwork by local arti
 sts adorn the walls. Peep show movies play on the partition window tha
 t separates the lounge from the dance floor. Eve is an excellent happy
  hour spot to relax with friends during the day and dynamic place to p
 arty during the nights and weekends.\n\n@ Eve Lounge SF\n575 Howard St
 . @ 2nd St.\n10pm-2am, 21+, $10\n$5 All Night w/RSVP: guestlist@djzita
 .com\nDress Code: Fly\n\nhttp://djzita.com\nhttp://eveloungesf.com\nht
 tp://madejewelry.com\n\n\n\nFor more information visit https://truesko
 ol.com/events/dj-zita-eve-present-allure
DTSTART;TZID=America/Los_Angeles:20091106T220000
DTEND;TZID=America/Los_Angeles:20091107T020000
CATEGORIES:soulful, house
LOCATION:Eve Lounge, San Francisco, CA
WEBSITE:http://www.eveloungesf.com
URL:http://www.eveloungesf.com
CONTACT:
ORGANIZER;CN="Fiyah Lilly":https://trueskool.com/profile/FiyahLilly
ATTACH;FMTTYPE="image/jpeg":http://storage.ning.com/topology/rest/1.0/
 file/get/2247866930?profile=original
ATTENDEE;ROLE=REQ-PARTICIPANT;PARTSTAT=ACCEPTED;RSVP=TRUE;CN="Fiyah Li
 lly":https://trueskool.com/profile/FiyahLilly
END:VEVENT
END:VCALENDAR
