BEGIN:VCALENDAR
PRODID:NingEventWidget-v1
VERSION:2.0
METHOD:PUBLISH
BEGIN:VTIMEZONE
TZID:America/Los_Angeles
X-LIC-LOCATION:America/Los_Angeles
BEGIN:DAYLIGHT
TZOFFSETFROM:-0800
TZOFFSETTO:-0700
TZNAME:PDT
DTSTART:19700308T020000
RRULE:FREQ=YEARLY;BYMONTH=3;BYDAY=2SU
END:DAYLIGHT
BEGIN:STANDARD
TZOFFSETFROM:-0700
TZOFFSETTO:-0800
TZNAME:PST
DTSTART:19701101T020000
RRULE:FREQ=YEARLY;BYMONTH=11;BYDAY=1SU
END:STANDARD
END:VTIMEZONE
BEGIN:VEVENT
UID:1464587:Event:297098
DTSTAMP:20260421T070310Z
SUMMARY:DJ Touré & Friends, Mars Today W/Live Band, + DJ Sake One
DESCRIPTION:DJ Touré (Hieroglyphics) w/Live Band ft. Casual, London, 
 Dolla Will, Emakulant, & Word Up  Mars Today w/Live Band ft. sayknowle
 dge, Cait La Dee, Alex Lee (Le Vice) + more!!   DJ Sake one (Local 12
 00) 10$ pre-sale (ages 18+)   DJ Touré: As part of a small handful o
 f talented producers amongst a generation of hopefuls, Touré Duncan a
 ka DJ Touré of the Hieroglyphics is hard at work making music for som
 e of the Bay Area’s top recording artists. DJ Toure began producing 
 music for the Hieroglyphics Collective, who have established themselve
 s as mainstay in the underground hip hop scene. He has made a name for
  himself as a producer in the Bay Area with his philosophy of original
 ity and creativity generating a demand for his particular style of agg
 ressive, bold and colorful melodies over bass heavy tracks.   He prod
 uced tracks for Dolla Will, who was signed to Too $hort’s record lab
 el at the time and worked with many other Bay Area artists including T
 oo $hort, E-40, Father Dom, Beeda Weeda, and Goapele. His production c
 ompany, 101% Music, has acted as an incubator for new talent in the Ba
 y’s Hip Hop, Rap, Soul, and R&B genres. Renowned for his DJing skill
 s as well, he has been featured on songs including “That’s How it 
 Is”, Casual’s first single and recently toured as Kelly Rowland’
 s DJ. As a drummer Toure has toured in Mystic’s band and played alon
 gside the Black Eyed Peas in Canada and the United States. DJ Toure re
 leased his new album, Toure’s Theory in Feb of this 2012. It feature
 d some of the biggest names in the Bay, and saw some solid radio play 
 nationwide.   Mars Today: A man of many hats, Mars Today has been a f
 ixture in the Bay Area for years as a producer, and performing artist.
  He cut his teeth fronting a 8 piece hip-hop/soul band, and released t
 wo full length albums under the name Yung Mars. His second album \"San
 ta Cruz or Bust\" had a strong west coast vibe that was well received 
 nationally, spending several weeks at #3 on the College Radio Hip-Hop 
 charts (CMJ), as well as getting songs placed on several TV shows & In
 dy Films (Dexter, Single Ladies). Drifting away from rapping, he start
 ed taking regular vocal lessons, and focused more on singing, songwrit
 ing, and supporting & developing other artists.   He recently produce
 d the debut album \"Vibe Called Quest\" for SF emcee sayknowledge. It 
 was the #1 hip-hop album on the CMJ Hip-Hop charts in May 2013, and wa
 s featured all over the internet including on websites such as Vibe.co
 m, Okayplayer, 2Dopeboyz and many more. He consistently works with a s
 mall stable of up and coming artists, as well as producing and collabo
 rating regularly with Los Rakas, becoming something of a \"go to\" pro
 ducer for them, as well as recently taking on the role of music direct
 or for their live band. \nHis band alone is ten members, and includes
  full horn and vocal sections. It's a live interpretation of his studi
 o work, featuring the emcees and singers that he is currently producin
 g for. The band backs the artists as they perform songs that were eith
 er produced by, co-written by, or remixed by Mars Today.\n\nSAKE ONE:
 Born and raised in the culture of hip-hop, DJ SAKE-1 has been looking
  for the perfect beat since 1989. A founding member of California's ((
 (Local 1200))) Sound System, DJ SAKE-1 has utilized a combination of a
 dvanced science and Bay Area hustle to genetically alter the hip-hop i
 diom into a 360 degree circle of soul. You can find DJ SAKE-1 kickin' 
 up dust and making 5,000-person venues feel like neighborhood house pa
 rties from San Francisco to New York City to Atlanta to London and bey
 ond.... \n\nFor more information visit https://trueskool.com/events/dj
 -tour-friends-mars-today-w-live-band-dj-sake-one
DTSTART;TZID=America/Los_Angeles:20140208T210000
DTEND;TZID=America/Los_Angeles:20140209T013000
CATEGORIES:san, francisco, ca
LOCATION:Brick & Mortar Music Hall
WEBSITE:http://www.brickandmortarmusic.com/event/459187-dj-toure-mars-
 today-san-francisco/
URL:http://www.brickandmortarmusic.com/event/459187-dj-toure-mars-toda
 y-san-francisco/
CONTACT:
ORGANIZER;CN="Mars Today":https://trueskool.com/profile/MrMarsToday
ATTACH;FMTTYPE="image/jpeg":http://storage.ning.com/topology/rest/1.0/
 file/get/2247955851?profile=original
ATTENDEE;ROLE=REQ-PARTICIPANT;PARTSTAT=ACCEPTED;RSVP=TRUE;CN="m.deep.m
 usic":https://trueskool.com/profile/mdeepmusic
ATTENDEE;ROLE=REQ-PARTICIPANT;PARTSTAT=ACCEPTED;RSVP=TRUE;CN="Francis 
 Camaquin":https://trueskool.com/profile/FrancisC
ATTENDEE;ROLE=REQ-PARTICIPANT;PARTSTAT=ACCEPTED;RSVP=TRUE;CN="Mars Tod
 ay":https://trueskool.com/profile/MrMarsToday
END:VEVENT
END:VCALENDAR
