BEGIN:VCALENDAR
PRODID:NingEventWidget-v1
VERSION:2.0
METHOD:PUBLISH
BEGIN:VTIMEZONE
TZID:America/Los_Angeles
X-LIC-LOCATION:America/Los_Angeles
BEGIN:DAYLIGHT
TZOFFSETFROM:-0800
TZOFFSETTO:-0700
TZNAME:PDT
DTSTART:19700308T020000
RRULE:FREQ=YEARLY;BYMONTH=3;BYDAY=2SU
END:DAYLIGHT
BEGIN:STANDARD
TZOFFSETFROM:-0700
TZOFFSETTO:-0800
TZNAME:PST
DTSTART:19701101T020000
RRULE:FREQ=YEARLY;BYMONTH=11;BYDAY=1SU
END:STANDARD
END:VTIMEZONE
BEGIN:VEVENT
UID:1464587:Event:656462
DTSTAMP:20260422T043314Z
SUMMARY:DJ Supreme
DESCRIPTION:DJ Supreme Hosted by The Rock Steady Starts at 10pm PST No
  Cover All Night / Age 21 And Up\n\nFor more information visit https:/
 /trueskool.com/events/dj-supreme
DTSTART;TZID=America/Los_Angeles:20161120T080000
DTEND;TZID=America/Los_Angeles:20161120T100000
CATEGORIES:oakland, music, dj
LOCATION:The rock steady
WEBSITE:http://www.ticketweb.com/fb/7028825/rocksteady
URL:http://www.ticketweb.com/fb/7028825/rocksteady
CONTACT:
ORGANIZER;CN="Makaela Susnow":https://trueskool.com/profile/MakaelaSus
 now962
ATTACH;FMTTYPE="image/jpeg":
ATTENDEE;ROLE=REQ-PARTICIPANT;PARTSTAT=ACCEPTED;RSVP=TRUE;CN="Makaela 
 Susnow":https://trueskool.com/profile/MakaelaSusnow962
END:VEVENT
END:VCALENDAR
