BEGIN:VCALENDAR
PRODID:NingEventWidget-v1
VERSION:2.0
METHOD:PUBLISH
BEGIN:VTIMEZONE
TZID:America/Los_Angeles
X-LIC-LOCATION:America/Los_Angeles
BEGIN:DAYLIGHT
TZOFFSETFROM:-0800
TZOFFSETTO:-0700
TZNAME:PDT
DTSTART:19700308T020000
RRULE:FREQ=YEARLY;BYMONTH=3;BYDAY=2SU
END:DAYLIGHT
BEGIN:STANDARD
TZOFFSETFROM:-0700
TZOFFSETTO:-0800
TZNAME:PST
DTSTART:19701101T020000
RRULE:FREQ=YEARLY;BYMONTH=11;BYDAY=1SU
END:STANDARD
END:VTIMEZONE
BEGIN:VEVENT
UID:1464587:Event:69076
DTSTAMP:20260420T130634Z
SUMMARY:DJ Spinna Exclusive SF Appearance @ BRAZA!
DESCRIPTION:Qual é gente boa!\n\nTime flies when the vibe is right! O
 h, yeah! It's hard to believe, but BRAZA! is turning 1 year \"old\" al
 ready and we'd be fooling ourselves if we didn't recognize the fact th
 at without your love and support we could not have reached this milest
 one. So, to salute you, we give you DJ Spinna, the SF Carnaval Champio
 ns Fogo Na Roupa and the return of Kento, completing the deck for the 
 classic Braza configuration, Friday November 5th.\n\nSpinna's reputati
 on speaks for itself, but in case you're not aware, he is today's fore
 most DJ, remixer and producers. Spinna truly stands out in the music i
 ndustry, because he's one of those rare cats who can do it all. A humb
 ling example of what it takes to master multiple musical disciplines. 
 Spinna is not only one of the dopest DJs on the planet, he's also a so
 ught after producer and remixer who's sonics have been in demand aroun
 d the world. Famous for his signature tribute parties, \"Wonderful\" a
 nd \"Soul Slam\", packing dance floors from New York to Japan and beyo
 nd. Spinna's ear for music has enabled him to connect the the dots bet
 ween Funk, Soul, Jazz, Hip Hop and Electronic music, and he's gonna de
 monstrate his versatility as he drops an all exclusive Brazilian set a
 t the next Braza!\n\n\nDon't miss this rare opportunity to catch this 
 unique event!\n\n\n\nLINE UP:\n\nDJ SPINNA (NY)\n\nKENTO, ELAN & VANKA
 \n\nFOGO NA ROUPA\n\nFresh visual projections every month by Caasi.\n\
 nListen:\nhttp://www.djspinna.com/\nhttp://www.myspace.com/djspinnafro
 mbrooklyn\n\nSOM.\n2925 16th St @ S Van Ness, San Francisco\n10pm - 3p
 m | EXCEPTIONALLY FOR THIS EVENT > $10 before 11 | $15 after | 21 & up
 \n\nFor more information visit https://trueskool.com/events/dj-spinna-
 exclusive-sf
DTSTART;TZID=America/Los_Angeles:20101105T220000
DTEND;TZID=America/Los_Angeles:20101106T030000
CATEGORIES:san, francisco, ca
LOCATION:SOM.
WEBSITE:http://www.brazasf.com
URL:http://www.brazasf.com
CONTACT:
ORGANIZER;CN="Antonio Guedes":https://trueskool.com/profile/AntonioGue
 des
ATTACH;FMTTYPE="image/jpeg":http://storage.ning.com/topology/rest/1.0/
 file/get/2247885279?profile=original
ATTENDEE;ROLE=REQ-PARTICIPANT;PARTSTAT=ACCEPTED;RSVP=TRUE;CN="Antonio 
 Guedes":https://trueskool.com/profile/AntonioGuedes
END:VEVENT
END:VCALENDAR
