BEGIN:VCALENDAR
PRODID:NingEventWidget-v1
VERSION:2.0
METHOD:PUBLISH
BEGIN:VTIMEZONE
TZID:America/Los_Angeles
X-LIC-LOCATION:America/Los_Angeles
BEGIN:DAYLIGHT
TZOFFSETFROM:-0800
TZOFFSETTO:-0700
TZNAME:PDT
DTSTART:19700308T020000
RRULE:FREQ=YEARLY;BYMONTH=3;BYDAY=2SU
END:DAYLIGHT
BEGIN:STANDARD
TZOFFSETFROM:-0700
TZOFFSETTO:-0800
TZNAME:PST
DTSTART:19701101T020000
RRULE:FREQ=YEARLY;BYMONTH=11;BYDAY=1SU
END:STANDARD
END:VTIMEZONE
BEGIN:VEVENT
UID:1464587:Event:237300
DTSTAMP:20260420T232042Z
SUMMARY:DJ Shortkut w/ The Whooligan @ Monarch SF (Friday 8/23)
DESCRIPTION:\nFRIDAY, AUG 23Monarch SF presents DJ Shortkut w/ The Who
 oliganFriday night, DJ Shortkut & The Whooligan take over for a one ni
 ght jam at Monarch SF, a journey into QUALITY music provided by two of
  the best!\n@ Monarch 101 6th St., SF21 +. 10pm-2am. More info: https:
 //www.facebook.com/events/374864759282904\n\nFor more information visi
 t https://trueskool.com/events/dj-shortkut-w-the-whooligan-monarch-sf-
 friday-8-23
DTSTART;TZID=America/Los_Angeles:20130823T220000
DTEND;TZID=America/Los_Angeles:20130824T020000
CATEGORIES:"bay area", "san francisco"
LOCATION:Monarch, SF
WEBSITE:https://www.facebook.com/events/374864759282904/37658501911087
 8
URL:https://www.facebook.com/events/374864759282904/376585019110878
CONTACT:
ORGANIZER:Monarch SF
ATTACH;FMTTYPE="image/jpeg":http://storage.ning.com/topology/rest/1.0/
 file/get/2247945244?profile=original
ATTENDEE;ROLE=REQ-PARTICIPANT;PARTSTAT=ACCEPTED;RSVP=TRUE;CN="Staff Pi
 ck":https://trueskool.com/profile/Ren
END:VEVENT
END:VCALENDAR
