BEGIN:VCALENDAR
PRODID:NingEventWidget-v1
VERSION:2.0
METHOD:PUBLISH
BEGIN:VTIMEZONE
TZID:America/Los_Angeles
X-LIC-LOCATION:America/Los_Angeles
BEGIN:DAYLIGHT
TZOFFSETFROM:-0800
TZOFFSETTO:-0700
TZNAME:PDT
DTSTART:19700308T020000
RRULE:FREQ=YEARLY;BYMONTH=3;BYDAY=2SU
END:DAYLIGHT
BEGIN:STANDARD
TZOFFSETFROM:-0700
TZOFFSETTO:-0800
TZNAME:PST
DTSTART:19701101T020000
RRULE:FREQ=YEARLY;BYMONTH=11;BYDAY=1SU
END:STANDARD
END:VTIMEZONE
BEGIN:VEVENT
UID:1464587:Event:371483
DTSTAMP:20260421T102712Z
SUMMARY:DJ Sets by Questlove and Talib Kweli
DESCRIPTION:\n Thursday, June 26, 2014 Ankh Marketing / Hip-Hop.com pr
 esent DJ Sets by Questlove and Talib Kweli\nOpening sets by: Apollo & 
 Mr. E (Downstairs)\nHakobo & King Most (Upstairs)\n \n\n\n@ Temple SF
  San Francisco, CA 9:00 PM (PDT) >> BUY TICKETS\n\nFor more informatio
 n visit https://trueskool.com/events/dj-sets-by-questlove-and-talib-kw
 eli
DTSTART;TZID=America/Los_Angeles:20140626T210000
DTEND;TZID=America/Los_Angeles:20140627T020000
CATEGORIES:"bay area", "san francisco"
LOCATION:Temple, SF
WEBSITE:http://www.eventbrite.com/e/dj-sets-by-questlove-and-talib-kwe
 li-temple-sf-tickets-11934056083
URL:http://www.eventbrite.com/e/dj-sets-by-questlove-and-talib-kweli-t
 emple-sf-tickets-11934056083
CONTACT:
ORGANIZER:Ankh Marketing
ATTACH;FMTTYPE="image/jpeg":http://storage.ning.com/topology/rest/1.0/
 file/get/2247962388?profile=original
ATTENDEE;ROLE=REQ-PARTICIPANT;PARTSTAT=ACCEPTED;RSVP=TRUE;CN="Kimon Fl
 anagan":https://trueskool.com/profile/KimonFlanagan
ATTENDEE;ROLE=REQ-PARTICIPANT;PARTSTAT=ACCEPTED;RSVP=TRUE;CN="Sarah Fr
 ank":https://trueskool.com/profile/SarahFrank
ATTENDEE;ROLE=REQ-PARTICIPANT;PARTSTAT=ACCEPTED;RSVP=TRUE;CN="Lauren O
 'Neill":https://trueskool.com/profile/LaurenONeill
ATTENDEE;ROLE=REQ-PARTICIPANT;PARTSTAT=ACCEPTED;RSVP=TRUE;CN=Melissa:h
 ttps://trueskool.com/profile/Melissa
ATTENDEE;ROLE=REQ-PARTICIPANT;PARTSTAT=ACCEPTED;RSVP=TRUE;CN="diana di
  battista":https://trueskool.com/profile/dianadibattista
ATTENDEE;ROLE=REQ-PARTICIPANT;PARTSTAT=ACCEPTED;RSVP=TRUE;CN=Dave:http
 s://trueskool.com/profile/Dave
ATTENDEE;ROLE=REQ-PARTICIPANT;PARTSTAT=ACCEPTED;RSVP=TRUE;CN=Frost:htt
 ps://trueskool.com/profile/Frost
ATTENDEE;ROLE=REQ-PARTICIPANT;PARTSTAT=ACCEPTED;RSVP=TRUE;CN="James Mi
 chael Federighi":https://trueskool.com/profile/JamesMichaelFederighi
ATTENDEE;ROLE=REQ-PARTICIPANT;PARTSTAT=ACCEPTED;RSVP=TRUE;CN="Sheila S
 alenga":https://trueskool.com/profile/SheilaSalenga
ATTENDEE;ROLE=REQ-PARTICIPANT;PARTSTAT=ACCEPTED;RSVP=TRUE;CN="Donte Ha
 rrison":https://trueskool.com/profile/DonteHarrison
ATTENDEE;ROLE=REQ-PARTICIPANT;PARTSTAT=ACCEPTED;RSVP=TRUE;CN="Frank Vi
 loria":https://trueskool.com/profile/DJILLusive
ATTENDEE;ROLE=REQ-PARTICIPANT;PARTSTAT=ACCEPTED;RSVP=TRUE;CN="Mark Hen
 derson":https://trueskool.com/profile/MarkHenderson
ATTENDEE;ROLE=REQ-PARTICIPANT;PARTSTAT=ACCEPTED;RSVP=TRUE;CN=negraybla
 nca:https://trueskool.com/profile/negrayblanca
ATTENDEE;ROLE=REQ-PARTICIPANT;PARTSTAT=ACCEPTED;RSVP=TRUE;CN="Colette 
 Waters":https://trueskool.com/profile/ColetteWaters
ATTENDEE;ROLE=REQ-PARTICIPANT;PARTSTAT=ACCEPTED;RSVP=TRUE;CN="Staff Pi
 ck":https://trueskool.com/profile/Ren
END:VEVENT
END:VCALENDAR
