BEGIN:VCALENDAR
PRODID:NingEventWidget-v1
VERSION:2.0
METHOD:PUBLISH
BEGIN:VTIMEZONE
TZID:America/Los_Angeles
X-LIC-LOCATION:America/Los_Angeles
BEGIN:DAYLIGHT
TZOFFSETFROM:-0800
TZOFFSETTO:-0700
TZNAME:PDT
DTSTART:19700308T020000
RRULE:FREQ=YEARLY;BYMONTH=3;BYDAY=2SU
END:DAYLIGHT
BEGIN:STANDARD
TZOFFSETFROM:-0700
TZOFFSETTO:-0800
TZNAME:PST
DTSTART:19701101T020000
RRULE:FREQ=YEARLY;BYMONTH=11;BYDAY=1SU
END:STANDARD
END:VTIMEZONE
BEGIN:VEVENT
UID:1464587:Event:635536
DTSTAMP:20260420T015009Z
SUMMARY:DJ Mustard w/ K Theory (WIN TICKETS)
DESCRIPTION:ENTER TO WIN A PAIR OF TICKETS. WINNER WILL BE DRAWN RANDO
 MLY AND ANNOUNCED 2 DAYS PRIOR TO EVENT. \n\n\nFriday, September 25, 
 2015\nDJ MUSTARD\n\nTHE WARFIELD\n982 Market Street San Francisco, CA 
 94102 (415) 345-0900 Doors: 8:00PM |Show: 9:00PM\n>> BUY TICKETS\n\n\n
 \nFor more information visit https://trueskool.com/events/dj-mustard
DTSTART;TZID=America/Los_Angeles:20150925T200000
DTEND;TZID=America/Los_Angeles:20150925T230000
CATEGORIES:"san francisco", oakland, berkley, "san jose", "bay area"
LOCATION:The Warfield
WEBSITE:http://www.axs.com/events/282091/dj-mustard-tickets?CID=WAR_DJ
 Mustard_TrueSkool
URL:http://www.axs.com/events/282091/dj-mustard-tickets?CID=WAR_DJMust
 ard_TrueSkool
CONTACT:
ORGANIZER;CN="Editor's Pick":https://trueskool.com/profile/RentheVinyl
 Archaeologist
ATTACH;FMTTYPE="image/jpeg":http://storage.ning.com/topology/rest/1.0/
 file/get/2247980886?profile=original
ATTENDEE;ROLE=REQ-PARTICIPANT;PARTSTAT=ACCEPTED;RSVP=TRUE;CN="emma cab
 rera":https://trueskool.com/profile/emmacabrera
ATTENDEE;ROLE=REQ-PARTICIPANT;PARTSTAT=ACCEPTED;RSVP=TRUE;CN="Editor's
  Pick":https://trueskool.com/profile/RentheVinylArchaeologist
END:VEVENT
END:VCALENDAR
