BEGIN:VCALENDAR
PRODID:NingEventWidget-v1
VERSION:2.0
METHOD:PUBLISH
BEGIN:VTIMEZONE
TZID:America/Los_Angeles
X-LIC-LOCATION:America/Los_Angeles
BEGIN:DAYLIGHT
TZOFFSETFROM:-0800
TZOFFSETTO:-0700
TZNAME:PDT
DTSTART:19700308T020000
RRULE:FREQ=YEARLY;BYMONTH=3;BYDAY=2SU
END:DAYLIGHT
BEGIN:STANDARD
TZOFFSETFROM:-0700
TZOFFSETTO:-0800
TZNAME:PST
DTSTART:19701101T020000
RRULE:FREQ=YEARLY;BYMONTH=11;BYDAY=1SU
END:STANDARD
END:VTIMEZONE
BEGIN:VEVENT
UID:1464587:Event:284044
DTSTAMP:20260421T094800Z
SUMMARY:DJ Jazzy Jeff w/ Shortkut
DESCRIPTION:MIGHTY is proud to YET AGAIN present the Magnificent DJ JA
 ZZY JEFF w/ Mighty resident DJ SHORTKUT - Hosted by SKILLZ - Friday Ja
 nuary 10th, 2013. In March of 2012, Mighty was the first to pair Jeff 
 w/ Shortkut - and since they've played multiple gigs in San Francisco 
 & most recently Manila. Support TBA. Crowd control by Fran Boogie & Mi
 xcrate.   *All events at Mighty are 21+  http://www.djjazzyjeff.com/ 
 http://djshortkut.com/ http://mixcrate.com/ http://vimeo.com/45588858\
 n\nFor more information visit https://trueskool.com/events/dj-jazzy-je
 ff-w-shortkut
DTSTART;TZID=America/Los_Angeles:20140110T210000
DTEND;TZID=America/Los_Angeles:20140111T023000
CATEGORIES:san, francisco, bay, area, california
LOCATION:Mighty, San Francisco
WEBSITE:http://jeffandshort2014.eventbrite.com/
URL:http://jeffandshort2014.eventbrite.com/
CONTACT:
ORGANIZER:Mighty
ATTACH;FMTTYPE="image/jpeg":http://storage.ning.com/topology/rest/1.0/
 file/get/2247954763?profile=original
ATTENDEE;ROLE=REQ-PARTICIPANT;PARTSTAT=ACCEPTED;RSVP=TRUE;CN="Alexandr
 a Alden":https://trueskool.com/profile/AlexandraAlden
END:VEVENT
END:VCALENDAR
