BEGIN:VCALENDAR
PRODID:NingEventWidget-v1
VERSION:2.0
METHOD:PUBLISH
BEGIN:VTIMEZONE
TZID:America/Los_Angeles
X-LIC-LOCATION:America/Los_Angeles
BEGIN:DAYLIGHT
TZOFFSETFROM:-0800
TZOFFSETTO:-0700
TZNAME:PDT
DTSTART:19700308T020000
RRULE:FREQ=YEARLY;BYMONTH=3;BYDAY=2SU
END:DAYLIGHT
BEGIN:STANDARD
TZOFFSETFROM:-0700
TZOFFSETTO:-0800
TZNAME:PST
DTSTART:19701101T020000
RRULE:FREQ=YEARLY;BYMONTH=11;BYDAY=1SU
END:STANDARD
END:VTIMEZONE
BEGIN:VEVENT
UID:1464587:Event:673297
DTSTAMP:20260421T005653Z
SUMMARY:DJ Jazzy Jeff
DESCRIPTION:DJ Jazzy Jeff x Miles Medina x J Espinosa  \r\nSaturday,
  March 10 at 9 PM - 3 AM PST\r\nThe Great Northern 119 Utah, San Franc
 isco, California 94103\n\nFor more information visit https://trueskool
 .com/events/dj-jazzy-jeff-3
DTSTART;TZID=America/Los_Angeles:20180310T210000
DTEND;TZID=America/Los_Angeles:20180311T030000
CATEGORIES:"bay area", oakland, "san francisco", "san jose", berkeley
LOCATION:The Great Northern, San Francisco
WEBSITE:https://www.eventbrite.com/e/dj-jazzy-jeff-x-miles-medina-x-j-
 espinosa-san-francisco-tickets-42014946837
URL:https://www.eventbrite.com/e/dj-jazzy-jeff-x-miles-medina-x-j-espi
 nosa-san-francisco-tickets-42014946837
CONTACT:
ORGANIZER;CN="Editor's Pick":https://trueskool.com/profile/RentheVinyl
 Archaeologist
ATTACH;FMTTYPE="image/jpeg":http://storage.ning.com/topology/rest/1.0/
 file/get/2248004791?profile=original
ATTENDEE;ROLE=REQ-PARTICIPANT;PARTSTAT=ACCEPTED;RSVP=TRUE;CN="Editor's
  Pick":https://trueskool.com/profile/RentheVinylArchaeologist
END:VEVENT
END:VCALENDAR
