BEGIN:VCALENDAR
PRODID:NingEventWidget-v1
VERSION:2.0
METHOD:PUBLISH
BEGIN:VTIMEZONE
TZID:America/Los_Angeles
X-LIC-LOCATION:America/Los_Angeles
BEGIN:DAYLIGHT
TZOFFSETFROM:-0800
TZOFFSETTO:-0700
TZNAME:PDT
DTSTART:19700308T020000
RRULE:FREQ=YEARLY;BYMONTH=3;BYDAY=2SU
END:DAYLIGHT
BEGIN:STANDARD
TZOFFSETFROM:-0700
TZOFFSETTO:-0800
TZNAME:PST
DTSTART:19701101T020000
RRULE:FREQ=YEARLY;BYMONTH=11;BYDAY=1SU
END:STANDARD
END:VTIMEZONE
BEGIN:VEVENT
UID:1464587:Event:265768
DTSTAMP:20260421T064640Z
SUMMARY:DJ Fergie B-Day Celebration
DESCRIPTION:Censored 2 \nThanksgiving Weekend\nDj Fergie\nB-Day Celeb
 ration \n\nDAY 1 : 11/29\nDay 2 : 11/30\n\n\n\nFor more information v
 isit https://trueskool.com/events/dj-fergie-b-day-celebration
DTSTART;TZID=America/Los_Angeles:20131129T180000
DTEND;TZID=America/Los_Angeles:20131201T040000
CATEGORIES:cafe, iguana, pines
LOCATION:Cafe Iguana Pines, Pembroke pines
WEBSITE:
URL:
CONTACT:7863191477
ORGANIZER;CN="Rockers Island":https://trueskool.com/profile/RockersIsl
 and
ATTACH;FMTTYPE="image/jpeg":http://storage.ning.com/topology/rest/1.0/
 file/get/2247952970?profile=original
ATTENDEE;ROLE=REQ-PARTICIPANT;PARTSTAT=ACCEPTED;RSVP=TRUE;CN="Rockers 
 Island":https://trueskool.com/profile/RockersIsland
END:VEVENT
END:VCALENDAR
