BEGIN:VCALENDAR
PRODID:NingEventWidget-v1
VERSION:2.0
METHOD:PUBLISH
BEGIN:VTIMEZONE
TZID:America/Los_Angeles
X-LIC-LOCATION:America/Los_Angeles
BEGIN:DAYLIGHT
TZOFFSETFROM:-0800
TZOFFSETTO:-0700
TZNAME:PDT
DTSTART:19700308T020000
RRULE:FREQ=YEARLY;BYMONTH=3;BYDAY=2SU
END:DAYLIGHT
BEGIN:STANDARD
TZOFFSETFROM:-0700
TZOFFSETTO:-0800
TZNAME:PST
DTSTART:19701101T020000
RRULE:FREQ=YEARLY;BYMONTH=11;BYDAY=1SU
END:STANDARD
END:VTIMEZONE
BEGIN:VEVENT
UID:1464587:Event:68387
DTSTAMP:20260420T132139Z
SUMMARY:DJ Craze, Trackademicks & J-Wow of Buraka Som Sistema @ Public
  Works
DESCRIPTION:CLICK HERE TO WIN A PAIR OF TICKETS:\nhttp://www.trueskool
 .com/group/wintickets\n\n\nSATURDAY, NOVEMBER 6\nRock It Science, Redl
 ine & Public Works present:\nDJ Craze, J-Wow of Buraka Som Sistema, Tr
 ackademicks, Eric Sharp and Ultraviolet\nBreaking from the norm with a
  stellar multi-genre event, Rock It Science Laboratories joins forces 
 with Redline to bring together one of the freshest lineups to hit San 
 Francisco at Public Works, the brand new space in the Mission District
  that has the streets abuzz. This event is not to be missed!\n\n@ Publ
 ic Works, 161 Erie St., San Francisco\nTICKETS: http://rockitcraze.eve
 ntbrite.com/\n\nTALENT:\nDJ CRAZE (Slow Roast Records, 3 time DMC Cham
 pion - Miami)\nCraze is a 3 time DMC turntablist champion (the only DJ
  to boast this accomplishment) who remains a trailblazer. He is one of
  the few battle DJs who has successfully transitioned into a dance flo
 or rocker, combining his unstoppable skills with the latest in DJ tech
 nology and embracing a wide spectrum of music from old school hip hop 
 and miami bass to electro and dubstep from the future.\n\nFor a sneak 
 preview of what you're in for, check out this video:\nhttp://www.youtu
 be.com/watch?v=aCA4yiPfFIg\n\nJ-WOW OF BURAKA SOM SISTEMA (Mad Decent 
 - Portugal)\nJ-Wow of Buraka Som Sistema is blowing up faster than you
 r little brother's science project - introducing the world to Kuduro, 
 collaborating with MIA and boasting a solo release on Diplo's Mad Dece
 nt label. J-Wow has recently been featured at The Fader and has a fort
 hcoming DJ mix on Discobelle.\n\nJ-Wow's Fader Mix:\nhttp://www.thefad
 er.com/2010/10/13/premiere-j-wows-fader-mix-mp3/\n\nTRACKADEMICKS (Foo
 l's Gold, Honor Roll)\nTrackademicks is presently taking the world by 
 storm with his self-styled Fresh Coast Slap hip hop, collaborating wit
 h the likes of Kid Sister and Phonte and repping his crew Honor Roll o
 ut of Oakland.\n\nTrackademicks' New Single on Soul Bounce:\nhttp://so
 ulbounce.com/soul/2010/09/trackademicks_phonte_aint_no_fool.php\n\nERI
 C SHARP (Rock It Science Laboratories)\nEric Sharp, inventor of the Ro
 ck It Science Laboratories event production company & music label, is 
 at the leading edge of dance music with his djing, production & remix 
 work.\n\nULTRAVIOLET (Redline)\nUltraviolet is the founder of the infa
 mous Redline parties, pushing the boundaries of dubstep and bass music
 . Be prepared for a full on audio assault.\n\nABOUT THE VENUE:\nPUBLIC
  WORKS - Your new favorite space\n\nPUBLIC SERVICE ANNOUNCEMENT:\nThe 
 Super Hustle Team that brought you MIGHTY (as well a gaggle of other f
 ar flung clubs and events) has corralled members of the Slayers Club a
 nd some of the Most Creative Minds around to bring you a Courageous Ne
 w Space.\nNightClub .. Gallery. . Workspace. . CommunityRoom. . House 
 of Fun & Adventure\n\nPUBLIC WORKS\n\"Givin' the People what they Want
 \"\n\nPublic works is a multifaceted event and community space in San 
 Francisco's Mission District that consists of a performance/event spac
 e, bar, art gallery and artist work shop/community room.\nDuring the d
 ay artists conceive and produce work that will come to light as the su
 n goes down and the electronic and indie music scenes bubble up to fil
 l this new home for the SF Underground.\nFrom DJ oriented Club Parties
  and live bands to independent film screenings,performance art and ran
 dom creative Outbursts, Public Works is a Hangout, a Happening, an Adv
 enture.\n\nFor more information visit https://trueskool.com/events/dj-
 craze-trackademicks-jwow
DTSTART;TZID=America/Los_Angeles:20101106T213000
DTEND;TZID=America/Los_Angeles:20101107T033000
CATEGORIES:san, francisco, ca
LOCATION:Public Works, San Francisco, CA
WEBSITE:http://www.publicsf.com
URL:http://www.publicsf.com
CONTACT:
ORGANIZER:Rock It Science & Redline
ATTACH;FMTTYPE="image/jpeg":http://storage.ning.com/topology/rest/1.0/
 file/get/2247885348?profile=original
ATTENDEE;ROLE=REQ-PARTICIPANT;PARTSTAT=ACCEPTED;RSVP=TRUE;CN="Eric Sha
 rp":https://trueskool.com/profile/EricSharp925
ATTENDEE;ROLE=REQ-PARTICIPANT;PARTSTAT=TENTATIVE;RSVP=TRUE;CN="Araceli
  Espinoza":https://trueskool.com/profile/verseofstyle
END:VEVENT
END:VCALENDAR
