BEGIN:VCALENDAR
PRODID:NingEventWidget-v1
VERSION:2.0
METHOD:PUBLISH
BEGIN:VTIMEZONE
TZID:America/Los_Angeles
X-LIC-LOCATION:America/Los_Angeles
BEGIN:DAYLIGHT
TZOFFSETFROM:-0800
TZOFFSETTO:-0700
TZNAME:PDT
DTSTART:19700308T020000
RRULE:FREQ=YEARLY;BYMONTH=3;BYDAY=2SU
END:DAYLIGHT
BEGIN:STANDARD
TZOFFSETFROM:-0700
TZOFFSETTO:-0800
TZNAME:PST
DTSTART:19701101T020000
RRULE:FREQ=YEARLY;BYMONTH=11;BYDAY=1SU
END:STANDARD
END:VTIMEZONE
BEGIN:VEVENT
UID:1464587:Event:282824
DTSTAMP:20260421T190312Z
SUMMARY:Dj BumpCity's R.Kelly TakeOver
DESCRIPTION:It's going down today from 6pm - 8pm BumpCity's extended M
 ixx@6 the R. Kelly TakeOver Pt.1. First hour some of his classic joint
 s, last hour his new album \"Black Panties\". Only heard here on www.d
 opebeatsradio.net or Dopebeatsradio on ShoutCast or TuneIn radio\n\nFo
 r more information visit https://trueskool.com/events/dj-bumpcity-s-r-
 kelly-takeover
DTSTART;TZID=America/Los_Angeles:20131210T180000
DTEND;TZID=America/Los_Angeles:20131210T200000
CATEGORIES:radio, dope, beats, mix, dj, mp3, audio, nyc, music, classi
 c, "r.", kelly
LOCATION:Dope Beats Radio.net
WEBSITE:http://www.dopebeatsradio.net
URL:http://www.dopebeatsradio.net
CONTACT:646-926-2867
ORGANIZER;CN="Dope Beats Radio":https://trueskool.com/profile/DopeBeat
 sRadio
ATTACH;FMTTYPE="image/jpeg":http://storage.ning.com/topology/rest/1.0/
 file/get/2247955635?profile=original
ATTENDEE;ROLE=REQ-PARTICIPANT;PARTSTAT=ACCEPTED;RSVP=TRUE;CN="Dope Bea
 ts Radio":https://trueskool.com/profile/DopeBeatsRadio
END:VEVENT
END:VCALENDAR
