BEGIN:VCALENDAR
PRODID:NingEventWidget-v1
VERSION:2.0
METHOD:PUBLISH
BEGIN:VTIMEZONE
TZID:America/Los_Angeles
X-LIC-LOCATION:America/Los_Angeles
BEGIN:DAYLIGHT
TZOFFSETFROM:-0800
TZOFFSETTO:-0700
TZNAME:PDT
DTSTART:19700308T020000
RRULE:FREQ=YEARLY;BYMONTH=3;BYDAY=2SU
END:DAYLIGHT
BEGIN:STANDARD
TZOFFSETFROM:-0700
TZOFFSETTO:-0800
TZNAME:PST
DTSTART:19701101T020000
RRULE:FREQ=YEARLY;BYMONTH=11;BYDAY=1SU
END:STANDARD
END:VTIMEZONE
BEGIN:VEVENT
UID:1464587:Event:41205
DTSTAMP:20260422T182702Z
SUMMARY:DJ Bobbito
DESCRIPTION:\nBobbito\n\n* When:Sat 10/3 (10:30PM)\n* Where: The New P
 arish\n* Address: 579 18th Street Oakland, CA\n* Cost: $12\nBuy Ticket
 s\n\n\n\nFor more information visit https://trueskool.com/events/dj-bo
 bbito
DTSTART;TZID=America/Los_Angeles:20091003T223000
DTEND;TZID=America/Los_Angeles:20091004T020000
CATEGORIES:hip, hop, soul, funk, afro, beats
LOCATION:The New Parish, Oakland
WEBSITE:http://sanfrancisco.going.com/bobbitooakland
URL:http://sanfrancisco.going.com/bobbitooakland
CONTACT:
ORGANIZER:The New Parish
ATTACH;FMTTYPE="image/jpeg":http://storage.ning.com/topology/rest/1.0/
 file/get/2247867251?profile=original
ATTENDEE;ROLE=REQ-PARTICIPANT;PARTSTAT=ACCEPTED;RSVP=TRUE;CN="Editor's
  Pick":https://trueskool.com/profile/RentheVinylArchaeologist
END:VEVENT
END:VCALENDAR
