BEGIN:VCALENDAR
PRODID:NingEventWidget-v1
VERSION:2.0
METHOD:PUBLISH
BEGIN:VTIMEZONE
TZID:America/Los_Angeles
X-LIC-LOCATION:America/Los_Angeles
BEGIN:DAYLIGHT
TZOFFSETFROM:-0800
TZOFFSETTO:-0700
TZNAME:PDT
DTSTART:19700308T020000
RRULE:FREQ=YEARLY;BYMONTH=3;BYDAY=2SU
END:DAYLIGHT
BEGIN:STANDARD
TZOFFSETFROM:-0700
TZOFFSETTO:-0800
TZNAME:PST
DTSTART:19701101T020000
RRULE:FREQ=YEARLY;BYMONTH=11;BYDAY=1SU
END:STANDARD
END:VTIMEZONE
BEGIN:VEVENT
UID:1464587:Event:492684
DTSTAMP:20260421T064945Z
SUMMARY:DJ Benny Contreras LIVE @ UC Berkeley Bboy Session
DESCRIPTION:DJ Benny Contreras will be spinning breaks all night long\
 nFree Event\nWhen: Thursday Jan. 22nd 2015\nWhere: Anna Head Alumnae H
 all, University of California, Berkeley, 2537 Haste St, Berkeley, CA 9
 4720\nWhat Time: 9pm-12am\nhttp:/https://www.facebook.com/events/48357
 4005117359/\n\nFor more information visit https://trueskool.com/events
 /dj-benny-contreras-live-uc-berkeley-bboy-session
DTSTART;TZID=America/Los_Angeles:20150122T210000
DTEND;TZID=America/Los_Angeles:20150123T000000
CATEGORIES:"#925hiphop"
LOCATION:Anna Head Alumnae Hall, University of California, Berkeley
WEBSITE:https://www.google.com/maps/place/Anna+Head+Alumnae+Hall,+Univ
 ersity+of+California,+Berkeley,+2537+Haste+St,+Berkeley,+CA+94720/@37.
 8663273,-122.2575953,17z/data=!3m1!4b1!4m2!3m1!1s0x80857c2ef0091c41:0x
 87b2897a9be5a294
URL:https://www.google.com/maps/place/Anna+Head+Alumnae+Hall,+Universi
 ty+of+California,+Berkeley,+2537+Haste+St,+Berkeley,+CA+94720/@37.8663
 273,-122.2575953,17z/data=!3m1!4b1!4m2!3m1!1s0x80857c2ef0091c41:0x87b2
 897a9be5a294
CONTACT:
ORGANIZER;CN="Ninetwofivehip-hop Sessions":https://trueskool.com/profi
 le/NinetwofivehiphopSessions
ATTACH;FMTTYPE="image/jpeg":http://storage.ning.com/topology/rest/1.0/
 file/get/2247972315?profile=original
ATTENDEE;ROLE=REQ-PARTICIPANT;PARTSTAT=ACCEPTED;RSVP=TRUE;CN="Ninetwof
 ivehip-hop Sessions":https://trueskool.com/profile/NinetwofivehiphopSe
 ssions
END:VEVENT
END:VCALENDAR
