BEGIN:VCALENDAR
PRODID:NingEventWidget-v1
VERSION:2.0
METHOD:PUBLISH
BEGIN:VTIMEZONE
TZID:America/Los_Angeles
X-LIC-LOCATION:America/Los_Angeles
BEGIN:DAYLIGHT
TZOFFSETFROM:-0800
TZOFFSETTO:-0700
TZNAME:PDT
DTSTART:19700308T020000
RRULE:FREQ=YEARLY;BYMONTH=3;BYDAY=2SU
END:DAYLIGHT
BEGIN:STANDARD
TZOFFSETFROM:-0700
TZOFFSETTO:-0800
TZNAME:PST
DTSTART:19701101T020000
RRULE:FREQ=YEARLY;BYMONTH=11;BYDAY=1SU
END:STANDARD
END:VTIMEZONE
BEGIN:VEVENT
UID:1464587:Event:37401
DTSTAMP:20260421T022112Z
SUMMARY:Disco Super Kitty
DESCRIPTION:In The Dark Room\nDisco Super Kitty\nFREE DISCO PARTY!\n\n
 Hosted By SERGIO (Go BANG! / KALX)\nwith Midnight Set by Disco Diva AL
 ONA (NoodlesOfLove)\n2-for-1 Beers & Wells 'till 11\nFREE ALL NIGHT!\n
 Sergio: www.sergioaudio.com\nGo BANG!: www.gobangsf.com\n\n\nPrice FRE
 E\nTime 9pm-2am\nMusic Disco\n\nFor more information visit https://tru
 eskool.com/events/disco-super-kitty
DTSTART;TZID=America/Los_Angeles:20090815T210000
DTEND;TZID=America/Los_Angeles:20090816T030000
CATEGORIES:disco
LOCATION:Club Six Dark Room, San Francisco, CA
WEBSITE:http://www.clubsix1.com
URL:http://www.clubsix1.com
CONTACT:415-531-6593
ORGANIZER:Angel
ATTACH;FMTTYPE="image/jpeg":http://storage.ning.com/topology/rest/1.0/
 file/get/2247861568?profile=original
ATTENDEE;ROLE=REQ-PARTICIPANT;PARTSTAT=ACCEPTED;RSVP=TRUE;CN=Cecily:ht
 tps://trueskool.com/profile/Cecily
END:VEVENT
END:VCALENDAR
