BEGIN:VCALENDAR
PRODID:NingEventWidget-v1
VERSION:2.0
METHOD:PUBLISH
BEGIN:VTIMEZONE
TZID:America/Los_Angeles
X-LIC-LOCATION:America/Los_Angeles
BEGIN:DAYLIGHT
TZOFFSETFROM:-0800
TZOFFSETTO:-0700
TZNAME:PDT
DTSTART:19700308T020000
RRULE:FREQ=YEARLY;BYMONTH=3;BYDAY=2SU
END:DAYLIGHT
BEGIN:STANDARD
TZOFFSETFROM:-0700
TZOFFSETTO:-0800
TZNAME:PST
DTSTART:19701101T020000
RRULE:FREQ=YEARLY;BYMONTH=11;BYDAY=1SU
END:STANDARD
END:VTIMEZONE
BEGIN:VEVENT
UID:1464587:Event:251231
DTSTAMP:20260421T130401Z
SUMMARY:Disco Kisses w/ DJ Mes, Switchblade, DJ 138, and B-Day boy Jus
 tin Johnson
DESCRIPTION:dj mes (Guesthouse Music) http://www.djmes.com/  Switchbla
 de (House Nation 99.7 fm / Dead Funk - SF) http://www.soundcloud.com/d
 eadfunk1  DJ 138 (Midnight Sons, Cable Recordings) http://www.soundclo
 ud.com/dj-0138  Justin Johnson (Cable Recordings, Southern Vice Record
 ings, Cylon Dub Receptor) http://www.djjustinjohnson.com/ http://www.s
 oundcloud.com/djjustinjohnson  Saturday, November 30, 2013  It's a sup
 er funky disco celebration and a great way to burn off pumpkin pie, sh
 are funny family photos, and make new friends.  Lounge 3411 - 3411 Mac
 Arthur Blvd @ 35th Ave, Oakland 9PM - 2AM | No cover! | Drink specials
  before 10\n\nFor more information visit https://trueskool.com/events/
 disco-kisses-w-dj-mes-switchblade-dj-138-and-b-day-boy-justin
DTSTART;TZID=America/Los_Angeles:20131130T210000
DTEND;TZID=America/Los_Angeles:20131201T020000
CATEGORIES:oakland, ca
LOCATION:Lounge 3411
WEBSITE:http://lounge3411.com/Location.html
URL:http://lounge3411.com/Location.html
CONTACT:510-531-3411
ORGANIZER;CN="Justin Johnson":https://trueskool.com/profile/JustinJohn
 son
ATTACH;FMTTYPE="image/jpeg":http://storage.ning.com/topology/rest/1.0/
 file/get/2247948575?profile=original
ATTENDEE;ROLE=REQ-PARTICIPANT;PARTSTAT=ACCEPTED;RSVP=TRUE;CN="Justin J
 ohnson":https://trueskool.com/profile/JustinJohnson
END:VEVENT
END:VCALENDAR
