BEGIN:VCALENDAR
PRODID:NingEventWidget-v1
VERSION:2.0
METHOD:PUBLISH
BEGIN:VTIMEZONE
TZID:America/Los_Angeles
X-LIC-LOCATION:America/Los_Angeles
BEGIN:DAYLIGHT
TZOFFSETFROM:-0800
TZOFFSETTO:-0700
TZNAME:PDT
DTSTART:19700308T020000
RRULE:FREQ=YEARLY;BYMONTH=3;BYDAY=2SU
END:DAYLIGHT
BEGIN:STANDARD
TZOFFSETFROM:-0700
TZOFFSETTO:-0800
TZNAME:PST
DTSTART:19701101T020000
RRULE:FREQ=YEARLY;BYMONTH=11;BYDAY=1SU
END:STANDARD
END:VTIMEZONE
BEGIN:VEVENT
UID:1464587:Event:660452
DTSTAMP:20260422T082400Z
SUMMARY:DILATED PEOPLES
DESCRIPTION:DILATED PEOPLES\nThe Independent San Francisco, CA Thursda
 y, April 27, 2017 Show: 9:00pm\nThis event is 21 and over\n$25.00 – 
 General Admission\n*plus applicable service fees\nThe general on sale 
 begins Friday, February 17th at noon!\nTickets available at The Indepe
 ndent box office (628 Divisadero, SF) with no service charge.\n\nFor m
 ore information visit https://trueskool.com/events/dilated-peoples-1
DTSTART;TZID=America/Los_Angeles:20170427T210000
DTEND;TZID=America/Los_Angeles:20170427T230000
CATEGORIES:"san francisco", oakland, berkley, "san jose", "bay area"
LOCATION:The Independent, SF
WEBSITE:https://www.ticketfly.com/purchase/event/1435797?camefrom=CFC_
 ANOTHERPLANET_web&brand=anotherplanet
URL:https://www.ticketfly.com/purchase/event/1435797?camefrom=CFC_ANOT
 HERPLANET_web&brand=anotherplanet
CONTACT:
ORGANIZER;CN="Editor's Pick":https://trueskool.com/profile/RentheVinyl
 Archaeologist
ATTACH;FMTTYPE="image/jpeg":http://storage.ning.com/topology/rest/1.0/
 file/get/2247993904?profile=original
ATTENDEE;ROLE=REQ-PARTICIPANT;PARTSTAT=ACCEPTED;RSVP=TRUE;CN="Editor's
  Pick":https://trueskool.com/profile/RentheVinylArchaeologist
END:VEVENT
END:VCALENDAR
